BEGIN:VCALENDAR
VERSION:2.0
PRODID:-//Drupal iCal API//EN
X-WR-CALNAME:Events items teaser
X-WR-TIMEZONE:America/Toronto
BEGIN:VTIMEZONE
TZID:America/Toronto
X-LIC-LOCATION:America/Toronto
BEGIN:DAYLIGHT
TZNAME:EDT
TZOFFSETFROM:-0500
TZOFFSETTO:-0400
DTSTART:20260308T070000
END:DAYLIGHT
BEGIN:STANDARD
TZNAME:EST
TZOFFSETFROM:-0400
TZOFFSETTO:-0500
DTSTART:20251102T060000
END:STANDARD
END:VTIMEZONE
BEGIN:VEVENT
UID:69e694ab3ee7b
DTSTART;TZID=America/Toronto:20260428T100000
SEQUENCE:0
TRANSP:TRANSPARENT
DTEND;TZID=America/Toronto:20260428T123000
URL:https://uwaterloo.ca/pharmacy/events/msc-thesis-defence-norman-ly
SUMMARY:MSc Thesis Defence - Norman Ly
CLASS:PUBLIC
DESCRIPTION:THESIS TITLE: Computational characterization of the dynamics an
 d\nbinding interactions in human VISTA\n\nSUPERVISORS: Aravindhan Ganesan\
 , School of Pharmacy &amp; Subha\nKalyaanamoorthy\, Chemistry \n\nLOCATION: P
 HR 7007\n\nThesis Submission Notices | Science | University of Waterloo\n[
 https://uwaterloo.ca/science/graduate/current-graduate-students/thesis-sub
 mission-notices]
DTSTAMP:20260420T210339Z
END:VEVENT
END:VCALENDAR