BEGIN:VCALENDAR
VERSION:2.0
PRODID:-//Drupal iCal API//EN
X-WR-CALNAME:Events items teaser
X-WR-TIMEZONE:America/Toronto
BEGIN:VTIMEZONE
TZID:America/Toronto
X-LIC-LOCATION:America/Toronto
BEGIN:DAYLIGHT
TZNAME:EDT
TZOFFSETFROM:-0500
TZOFFSETTO:-0400
DTSTART:20260308T070000
END:DAYLIGHT
BEGIN:STANDARD
TZNAME:EST
TZOFFSETFROM:-0400
TZOFFSETTO:-0500
DTSTART:20251102T060000
END:STANDARD
END:VTIMEZONE
BEGIN:VEVENT
UID:69e66db86fe8c
DTSTART;TZID=America/Toronto:20260428T100000
SEQUENCE:0
TRANSP:TRANSPARENT
DTEND;TZID=America/Toronto:20260428T123000
URL:https://uwaterloo.ca/pharmacy/events/msc-thesis-defence-norman-ly
SUMMARY:MSc Thesis Defence - Norman Ly
CLASS:PUBLIC
DESCRIPTION:THESIS TITLE: Computational characterization of the dynamics an
 d\nbinding interactions in human VISTA\n\nSUPERVISORS: Aravindhan Ganesan\
 , School of Pharmacy &amp; Subha\nKalyaanamoorthy\, Chemistry \n\nLOCATION: P
 HR 7007\n\nThesis Submission Notices | Science | University of Waterloo\n[
 https://uwaterloo.ca/science/graduate/current-graduate-students/thesis-sub
 mission-notices]
DTSTAMP:20260420T181728Z
END:VEVENT
BEGIN:VEVENT
UID:69e66db871355
DTSTART;TZID=America/Toronto:20260506T130000
SEQUENCE:0
TRANSP:TRANSPARENT
DTEND;TZID=America/Toronto:20260506T163000
URL:https://uwaterloo.ca/pharmacy/events/phd-thesis-defence-kartar-singh
SUMMARY:PhD Thesis Defence - Kartar Singh
CLASS:PUBLIC
DESCRIPTION:THESIS TITLE: Cholesterol and Amyloid β Modulation of Receptor
 \nTyrosine Kinase Signaling in Neural Cell Models\n\nSUPERVISORS: Mike Bea
 zely\, School of Pharmacy &amp;  Zoya Leonenko\,\nPhysics and Astronomy \n\n
 Thesis Submission Notices | Science | University of Waterloo\n[https://uwa
 terloo.ca/science/graduate/current-graduate-students/thesis-submission-not
 ices]
DTSTAMP:20260420T181728Z
END:VEVENT
BEGIN:VEVENT
UID:69e66db871de7
DTSTART;TZID=America/Toronto:20260629T160000
SEQUENCE:0
TRANSP:TRANSPARENT
DTEND;TZID=America/Toronto:20260629T180000
URL:https://uwaterloo.ca/pharmacy/events/pharmacy-graduate-studies-awards-c
 elebration
SUMMARY:Pharmacy Graduate Studies Awards Celebration
CLASS:PUBLIC
DESCRIPTION:This annual event brings together our graduate studies communit
 y to\nrecognize and celebrate the outstanding achievements of graduate\nst
 udents in the School of Pharmacy over the past year.\n\nRefreshments will 
 be served\, followed by a formal presentation of the\nSchool of Pharmacy A
 nnual Graduate Awards\n[https://uwaterloo.ca/graduate-studies-postdoctoral
 -affairs/awards/school-pharmacy-annual-graduate-awards]\,\nalong with the 
 esteemed Donald J &amp; Katheleen D McDougall Graduate\nScholarship\n[https://
 uwaterloo.ca/graduate-studies-postdoctoral-affairs/awards/donald-j-kathlee
 n-d-mcdougall-graduate-scholarship]\nand the Janet EA McDougall Graduate S
 cholarships\n[https://uwaterloo.ca/graduate-studies-postdoctoral-affairs/a
 wards/janet-ea-mcdougall-graduate-scholarship-pharmacy].
DTSTAMP:20260420T181728Z
END:VEVENT
BEGIN:VEVENT
UID:69e66db8725b5
DTSTART;TZID=America/Toronto:20260410T110000
SEQUENCE:0
TRANSP:TRANSPARENT
DTEND;TZID=America/Toronto:20260410T120000
URL:https://uwaterloo.ca/pharmacy/events/feasibility-peer-assisted-interpro
 fessional-learning-between
SUMMARY:Feasibility of Peer-Assisted Interprofessional Learning between\nPh
 armacy and Exercise Physiology Students in Providing Integrated Care
CLASS:PUBLIC
DESCRIPTION:Presenter:Dr. Wei Zhang\, PharmD\n\nClinical Teaching Faculty M
 ember\n\nChina Pharmaceutical University
DTSTAMP:20260420T181728Z
END:VEVENT
BEGIN:VEVENT
UID:69e66db873024
DTSTART;TZID=America/Toronto:20260324T123000
SEQUENCE:0
TRANSP:TRANSPARENT
DTEND;TZID=America/Toronto:20260324T150000
URL:https://uwaterloo.ca/pharmacy/events/msc-thesis-defence-anna-ffrench
SUMMARY:MSc Thesis Defence - Anna Ffrench
CLASS:PUBLIC
DESCRIPTION:THESIS TITLE: Targeted Gene Delivery to Astrocytes Using Intell
 igent\nPhagemid-Assembled Gene Expression (iPhAGE) Technology for Neuronal
 \nRegeneration\n\nSUPERVISORS: Roderick Slavcev and Mike Beazely\, School 
 of Pharmacy\n\nLOCATION: PHR 7007\n\nThesis Submission Notices | Science |
  University of Waterloo\n[https://uwaterloo.ca/science/graduate/current-gr
 aduate-students/thesis-submission-notices]
DTSTAMP:20260420T181728Z
END:VEVENT
BEGIN:VEVENT
UID:69e66db8739ba
DTSTART;TZID=America/Toronto:20260408T093000
SEQUENCE:0
TRANSP:TRANSPARENT
DTEND;TZID=America/Toronto:20260408T130000
URL:https://uwaterloo.ca/pharmacy/events/phd-thesis-defence-mira-maximos
SUMMARY:PhD Thesis Defence - Mira Maximos
CLASS:PUBLIC
DESCRIPTION:THESIS TITLE: Sex- and-Gender-Based Analyses of Penicillin Alle
 rgy\nLabels\, Outcomes\, and Delabeling Interventions\n\nSUPERVISOR: John-
 Michael Gamble\, School of Pharmacy\n\nThesis Submission Notices | Science
  | University of Waterloo\n[https://uwaterloo.ca/science/graduate/current-
 graduate-students/thesis-submission-notices]
DTSTAMP:20260420T181728Z
END:VEVENT
BEGIN:VEVENT
UID:69e66db87424a
DTSTART;TZID=America/Toronto:20260401T100000
SEQUENCE:0
TRANSP:TRANSPARENT
DTEND;TZID=America/Toronto:20260401T133000
URL:https://uwaterloo.ca/pharmacy/events/phd-thesis-defence-sam-hirniak
SUMMARY:PhD Thesis Defence - Sam Hirniak
CLASS:PUBLIC
DESCRIPTION:THESIS TITLE: Economic evaluations of hemophilia A intervention
 s in\nCanada\n\nSUPERVISORS: Andrea Edginton and William WL Wong\, School 
 of Pharmacy\n\nThesis Submission Notices | Science | University of Waterlo
 o\n[https://uwaterloo.ca/science/graduate/current-graduate-students/thesis
 -submission-notices]
DTSTAMP:20260420T181728Z
END:VEVENT
BEGIN:VEVENT
UID:69e66db874b0b
DTSTART;TZID=America/Toronto:20251209T100000
SEQUENCE:0
TRANSP:TRANSPARENT
DTEND;TZID=America/Toronto:20251209T120000
URL:https://uwaterloo.ca/pharmacy/events/msc-thesis-defence-1
SUMMARY:MSc Thesis Defence
CLASS:PUBLIC
DESCRIPTION:MSC CANDIDATE: Mehraveh Hosseinali\n\nTITLE: Development of Hyb
 rid Non-Enveloped Viral Vectors Using\nBacterial Miniphagemid Platform\n\n
 SUPERVISOR: Roderick Slavcev and Marc Aucoin\n\nLOCATION/METHOD: School o
 f Pharmacy Room 7007 and Remote via MS TEAMS\n\nThesis Submission Notices 
 | Science | University of Waterloo\n[https://uwaterloo.ca/science/graduate
 /current-graduate-students/thesis-submission-notices]
DTSTAMP:20260420T181728Z
END:VEVENT
BEGIN:VEVENT
UID:69e66db87542a
DTSTART;TZID=America/Toronto:20251211T100000
SEQUENCE:0
TRANSP:TRANSPARENT
DTEND;TZID=America/Toronto:20251211T133000
URL:https://uwaterloo.ca/pharmacy/events/phd-thesis-defence-2
SUMMARY:PhD Thesis Defence
CLASS:PUBLIC
DESCRIPTION:PHD CANDIDATE: Jesse St Jean\n\nTITLE: The examination of bacte
 riophage M13-based miniphagemids as a\nplatform for the delivery of geneti
 cmaterial for neuronal\napplications.\n\nSUPERVISORS: Roderick Slavcev\n\n
 LOCATION/METHOD: School of Pharmacy Room 2009\n\nThesis Submission Notice
 s | Science | University of Waterloo\n[https://uwaterloo.ca/science/gradua
 te/current-graduate-students/thesis-submission-notices]
DTSTAMP:20260420T181728Z
END:VEVENT
BEGIN:VEVENT
UID:69e66db875cce
DTSTART;TZID=America/Toronto:20251113T190000
SEQUENCE:0
TRANSP:TRANSPARENT
DTEND;TZID=America/Toronto:20251113T203000
URL:https://uwaterloo.ca/pharmacy/events/unpacking-obesity-myths-medicine-a
 nd-motivation
LOCATION:PHR - School of Pharmacy 10 Victoria Street South Kitchener ON N2G
  2B2 Canada
SUMMARY:Unpacking Obesity: Myths\, Medicine and Motivation
CLASS:PUBLIC
DESCRIPTION:Join us in-person at the School of Pharmacy on NOVEMBER 13\,\n
 7-8:30PM for a panel discussion that will aim to inform\, inspire\, and\n
 shift the narrative around obesity. Our expert panelists representing\nmed
 icine\, nutrition and pharmacy will dispel common myths\, explore\ncurrent
  treatments\, and discuss how motivation and mindset play a role\nin care.
DTSTAMP:20260420T181728Z
END:VEVENT
END:VCALENDAR