BEGIN:VCALENDAR
VERSION:2.0
PRODID:-//Drupal iCal API//EN
X-WR-CALNAME:Events items teaser
X-WR-TIMEZONE:America/Toronto
BEGIN:VTIMEZONE
TZID:America/Toronto
X-LIC-LOCATION:America/Toronto
BEGIN:DAYLIGHT
TZNAME:EDT
TZOFFSETFROM:-0500
TZOFFSETTO:-0400
DTSTART:20240310T070000
END:DAYLIGHT
BEGIN:STANDARD
TZNAME:EST
TZOFFSETFROM:-0400
TZOFFSETTO:-0500
DTSTART:20241103T060000
END:STANDARD
END:VTIMEZONE
BEGIN:VEVENT
UID:69db6a4c8202d
DTSTART;TZID=America/Toronto:20250226T113000
SEQUENCE:0
TRANSP:TRANSPARENT
DTEND;TZID=America/Toronto:20250226T123000
URL:https://uwaterloo.ca/philosophy/events/better-here-writing-nurture-bett
 er-future-solarpunk
SUMMARY:A Better Here--Writing to Nurture a Better Future: A solarpunk\nlec
 ture/workshop with Jerri Jereat
CLASS:PUBLIC
DESCRIPTION:THE WATERLOO INITIATIVE FOR SOLARPUNK AND HOPE (WISH) warmly i
 nvites\nyou to two events introducing you to the transformative power of\n
 Solarpunk art and literature. \n\nOn WEDNESDAY\, FEBRUARY 26\, join us fo
 r A BETTER HERE--WRITING TO\nNURTURE A BETTER FUTURE\, a virtual talk/work
 shop with Jerri Jerreat\,\nauthor and Executive Director of the Youth Imag
 ine the Future\n[https://youthimaginethefuture.com/] festival in Kingston
 \, Ontario. 
DTSTAMP:20260412T094756Z
END:VEVENT
END:VCALENDAR