BEGIN:VCALENDAR
VERSION:2.0
PRODID:-//Drupal iCal API//EN
X-WR-CALNAME:Events items teaser
X-WR-TIMEZONE:America/Toronto
BEGIN:VTIMEZONE
TZID:America/Toronto
X-LIC-LOCATION:America/Toronto
BEGIN:DAYLIGHT
TZNAME:EDT
TZOFFSETFROM:-0500
TZOFFSETTO:-0400
DTSTART:20230312T070000
END:DAYLIGHT
BEGIN:STANDARD
TZNAME:EST
TZOFFSETFROM:-0400
TZOFFSETTO:-0500
DTSTART:20221106T060000
END:STANDARD
END:VTIMEZONE
BEGIN:VEVENT
UID:69eb02a49aa24
DTSTART;TZID=America/Toronto:20230922T143000
SEQUENCE:0
TRANSP:TRANSPARENT
DTEND;TZID=America/Toronto:20230922T173000
URL:https://uwaterloo.ca/philosophy/events/sharma-lecture
SUMMARY:Sharma Lecture
CLASS:PUBLIC
DESCRIPTION:Sharma Lecture: Jonothan Tsou_ \nPsychiatry and Epistemic Jus
 tice_\n\n_September 22nd\, 2023\n2:30 pm - 5:00 pm_\n\nPre-talk social 2:3
 0 pm HH 335\nTalk 3:00 pm - 5: 00 pm HH 373\n\n-------------------------
DTSTAMP:20260424T054156Z
END:VEVENT
END:VCALENDAR