BEGIN:VCALENDAR
VERSION:2.0
PRODID:-//Drupal iCal API//EN
X-WR-CALNAME:Events items teaser
X-WR-TIMEZONE:America/Toronto
BEGIN:VTIMEZONE
TZID:America/Toronto
X-LIC-LOCATION:America/Toronto
BEGIN:DAYLIGHT
TZNAME:EDT
TZOFFSETFROM:-0500
TZOFFSETTO:-0400
DTSTART:20190310T070000
END:DAYLIGHT
BEGIN:STANDARD
TZNAME:EST
TZOFFSETFROM:-0400
TZOFFSETTO:-0500
DTSTART:20181104T060000
END:STANDARD
END:VTIMEZONE
BEGIN:VEVENT
UID:69e58dd5e0613
DTSTART;TZID=America/Toronto:20191004T083000
SEQUENCE:0
TRANSP:TRANSPARENT
DTEND;TZID=America/Toronto:20191004T173000
URL:https://uwaterloo.ca/political-science/events/freedom-expression-canada
 -workshop
LOCATION:Balsillie School of International Affairs 67 Erb Street West Room 
 1-42 Waterloo ON N2L 6C2 Canada
SUMMARY:Freedom of Expression in Canada Workshop
CLASS:PUBLIC
DESCRIPTION:[Canadian parliament building ] Freedom of Expression in Canada
 \nThis workshop is co-sponsored by the Department of Political Science\nat
  the University of Waterloo\, the Courts &amp; Politics Research Group\,\nand 
 the research cluster for Indigenous Peoples\, Decolonization and\nthe Glob
 e at the Balsillie School of International Affairs.
DTSTAMP:20260420T022213Z
END:VEVENT
END:VCALENDAR