BEGIN:VCALENDAR
VERSION:2.0
PRODID:-//Drupal iCal API//EN
X-WR-CALNAME:Events items teaser
X-WR-TIMEZONE:America/Toronto
BEGIN:VTIMEZONE
TZID:America/Toronto
X-LIC-LOCATION:America/Toronto
BEGIN:DAYLIGHT
TZNAME:EDT
TZOFFSETFROM:-0500
TZOFFSETTO:-0400
DTSTART:20190310T070000
END:DAYLIGHT
BEGIN:STANDARD
TZNAME:EST
TZOFFSETFROM:-0400
TZOFFSETTO:-0500
DTSTART:20191103T060000
END:STANDARD
END:VTIMEZONE
BEGIN:VEVENT
UID:69e4f9d89d853
DTSTART;TZID=America/Toronto:20200227T120000
SEQUENCE:0
TRANSP:TRANSPARENT
DTEND;TZID=America/Toronto:20200227T133000
URL:https://uwaterloo.ca/political-science/events/speaker-series-consensus-
 and-control-individuals
LOCATION:HH - J.G. Hagey Hall of the Humanities 200 University Avenue West 
 HH 341 Waterloo ON N2L 3G1 Canada
SUMMARY:Speaker Series: \"Consensus and Control: the Individual's Instituti
 onal\nPerception and its Formation\"
CLASS:PUBLIC
DESCRIPTION:Sabrina Lei is currently a Visiting Scholar with the Department
  of\nPoltiical Science from School of Public Affairs\, Xiamen University\,
 \nChina. Sabrina's research theme focus is “Diplomatic Positioning of\nt
 he States: A Comparison between China and Canada”\, and she is\ncurrentl
 y working on the book  “Consensus and Control: Analysis of\nHuman Polit
 ical Life”.
DTSTAMP:20260419T155048Z
END:VEVENT
END:VCALENDAR