BEGIN:VCALENDAR
VERSION:2.0
PRODID:-//Drupal iCal API//EN
X-WR-CALNAME:Events items teaser
X-WR-TIMEZONE:America/Toronto
BEGIN:VTIMEZONE
TZID:America/Toronto
X-LIC-LOCATION:America/Toronto
BEGIN:DAYLIGHT
TZNAME:EDT
TZOFFSETFROM:-0500
TZOFFSETTO:-0400
DTSTART:20250309T070000
END:DAYLIGHT
BEGIN:STANDARD
TZNAME:EST
TZOFFSETFROM:-0400
TZOFFSETTO:-0500
DTSTART:20251102T060000
END:STANDARD
END:VTIMEZONE
BEGIN:VEVENT
UID:69e4c971227d5
DTSTART;TZID=America/Toronto:20251203T120000
SEQUENCE:0
TRANSP:TRANSPARENT
DTEND;TZID=America/Toronto:20251203T130000
URL:https://uwaterloo.ca/political-science/events/speaker-series-0
SUMMARY:Speaker Series
CLASS:PUBLIC
DESCRIPTION:GENDER\, PEACE\, AND POWER SHARING\n\nDr. McCulloch will be spe
 aking on her upcoming book _Gender\, Peace\,\nand Power-Sharing_ (Universi
 ty of Toronto Press\, June 2026)\,\ncoauthored with Siobhan Byrne (Univers
 ity of Alberta). The book\nexplores how power-sharing and the women\, peac
 e\, and security agenda\nintersect in peacebuilding practices. It offers a
  feminist\n“alternative telling” that captures the tensions and potent
 ial of\nthese frameworks
DTSTAMP:20260419T122417Z
END:VEVENT
END:VCALENDAR