BEGIN:VCALENDAR
VERSION:2.0
PRODID:-//Drupal iCal API//EN
X-WR-CALNAME:Events items teaser
X-WR-TIMEZONE:America/Toronto
BEGIN:VTIMEZONE
TZID:America/Toronto
X-LIC-LOCATION:America/Toronto
BEGIN:DAYLIGHT
TZNAME:EDT
TZOFFSETFROM:-0500
TZOFFSETTO:-0400
DTSTART:20260308T070000
END:DAYLIGHT
BEGIN:STANDARD
TZNAME:EST
TZOFFSETFROM:-0400
TZOFFSETTO:-0500
DTSTART:20251102T060000
END:STANDARD
END:VTIMEZONE
BEGIN:VEVENT
UID:69e5fcc2389aa
DTSTART;TZID=America/Toronto:20260325T143000
SEQUENCE:0
TRANSP:TRANSPARENT
DTEND;TZID=America/Toronto:20260325T163000
URL:https://uwaterloo.ca/political-science/events/explore-political-science
 -research-your-library
SUMMARY:Explore Political Science Research in Your Library
CLASS:PUBLIC
DESCRIPTION:Join us in the lobby of Dana Porter Library for a showcase of o
 ngoing\ngraduate student political science research. This poster session\n
 highlights emerging scholarship from the PSCI 601 class (_Research and\nWr
 iting in Political Science_) and leverages the Library as a hub for\nresea
 rch connections\, interdisciplinary dialogue\, and knowledge\nmobilization
 . All members of the academic community—undergraduates\,\ngraduate stude
 nts\, staff\, and faculty are invited to engage with the\npresenters and l
 earn about current political science inquiry.
DTSTAMP:20260420T101530Z
END:VEVENT
END:VCALENDAR