BEGIN:VCALENDAR
VERSION:2.0
PRODID:-//Drupal iCal API//EN
X-WR-CALNAME:Events items teaser
X-WR-TIMEZONE:America/Toronto
BEGIN:VTIMEZONE
TZID:America/Toronto
X-LIC-LOCATION:America/Toronto
BEGIN:DAYLIGHT
TZNAME:EDT
TZOFFSETFROM:-0500
TZOFFSETTO:-0400
DTSTART:20250309T070000
END:DAYLIGHT
BEGIN:STANDARD
TZNAME:EST
TZOFFSETFROM:-0400
TZOFFSETTO:-0500
DTSTART:20241103T060000
END:STANDARD
END:VTIMEZONE
BEGIN:VEVENT
UID:69eb76817d0e8
DTSTART;TZID=America/Toronto:20250919T150000
SEQUENCE:0
TRANSP:TRANSPARENT
DTEND;TZID=America/Toronto:20250919T160000
URL:https://uwaterloo.ca/postdoctoral-scholars/events/npaw-2025-happy-hour
LOCATION:GH Purple Room (upstairs) 200 University Avenue West Waterloo ON N
 2L 3G1 Canada
SUMMARY:NPAW 2025: Happy Hour
CLASS:PUBLIC
DESCRIPTION:Meet other postdocs while enjoying food and beverages.
DTSTAMP:20260424T135617Z
END:VEVENT
END:VCALENDAR