BEGIN:VCALENDAR
VERSION:2.0
PRODID:-//Drupal iCal API//EN
X-WR-CALNAME:Events items teaser
X-WR-TIMEZONE:America/Toronto
BEGIN:VTIMEZONE
TZID:America/Toronto
X-LIC-LOCATION:America/Toronto
BEGIN:DAYLIGHT
TZNAME:EDT
TZOFFSETFROM:-0500
TZOFFSETTO:-0400
DTSTART:20240310T070000
END:DAYLIGHT
BEGIN:STANDARD
TZNAME:EST
TZOFFSETFROM:-0400
TZOFFSETTO:-0500
DTSTART:20231105T060000
END:STANDARD
END:VTIMEZONE
BEGIN:VEVENT
UID:69ec2aad7f4eb
DTSTART;TZID=America/Toronto:20240419T123000
SEQUENCE:0
TRANSP:TRANSPARENT
DTEND;TZID=America/Toronto:20240419T163000
URL:https://uwaterloo.ca/psychology/events/denise-laws-phd-oral-defence
LOCATION:PAS - Psychology\, Anthropology\, Sociology 200 University Avenue 
 West 3026 Waterloo ON N2L 3G1 Canada
SUMMARY:Denise Law’s PhD Oral Defence
CLASS:PUBLIC
DESCRIPTION:Denise Law’s thesis is entitled: “A Meta-analytic compariso
 n of\nwhy workplace ostracism relates to discretionary behavior”\n\nAll 
 are welcome to attend.
DTSTAMP:20260425T024501Z
END:VEVENT
END:VCALENDAR