BEGIN:VCALENDAR
VERSION:2.0
PRODID:-//Drupal iCal API//EN
X-WR-CALNAME:Events items teaser
X-WR-TIMEZONE:America/Toronto
BEGIN:VTIMEZONE
TZID:America/Toronto
X-LIC-LOCATION:America/Toronto
BEGIN:DAYLIGHT
TZNAME:EDT
TZOFFSETFROM:-0500
TZOFFSETTO:-0400
DTSTART:20160313T070000
END:DAYLIGHT
BEGIN:STANDARD
TZNAME:EST
TZOFFSETFROM:-0400
TZOFFSETTO:-0500
DTSTART:20151101T060000
END:STANDARD
END:VTIMEZONE
BEGIN:VEVENT
UID:69e6abba6b1dd
DTSTART;TZID=America/Toronto:20161029T090000
SEQUENCE:0
TRANSP:TRANSPARENT
DTEND;TZID=America/Toronto:20161029T090000
URL:https://uwaterloo.ca/psychology/events/11th-annual-southwestern-ontario
 -industrialorganizational
LOCATION:FED - Federation Hall 200 University Avenue West Waterloo ON N2L 3
 G1 Canada
SUMMARY:The 11th Annual Southwestern Ontario Industrial/Organizational\nPsy
 chology and Organizational Behaviour (I/O &amp; OB) Graduate Student\nConferen
 ce
CLASS:PUBLIC
DESCRIPTION:[he 11th Annual Southwestern Ontario Industrial/Organizational\
 nPsychology and Organizational Behaviour (I/O &amp; OB) Graduate Student\nConf
 erence logo]
DTSTAMP:20260420T224202Z
END:VEVENT
END:VCALENDAR