BEGIN:VCALENDAR
VERSION:2.0
PRODID:-//Drupal iCal API//EN
X-WR-CALNAME:Events items teaser
X-WR-TIMEZONE:America/Toronto
BEGIN:VTIMEZONE
TZID:America/Toronto
X-LIC-LOCATION:America/Toronto
BEGIN:DAYLIGHT
TZNAME:EDT
TZOFFSETFROM:-0500
TZOFFSETTO:-0400
DTSTART:20190310T070000
END:DAYLIGHT
BEGIN:STANDARD
TZNAME:EST
TZOFFSETFROM:-0400
TZOFFSETTO:-0500
DTSTART:20181104T060000
END:STANDARD
END:VTIMEZONE
BEGIN:VEVENT
UID:69e4c9732d7d0
DTSTART;TZID=America/Toronto:20190503T000000
SEQUENCE:0
TRANSP:TRANSPARENT
DTEND;TZID=America/Toronto:20190503T000000
URL:https://uwaterloo.ca/psychology/events/49th-annual-ontario-psychology-u
 ndergraduate-thesis
SUMMARY:49th Annual Ontario Psychology Undergraduate Thesis Conference
CLASS:PUBLIC
DESCRIPTION:The Psychology Department at the University of Waterloo will ho
 st the\n49th Annual Ontario Psychology Undergraduate Thesis Conference on
  May\n3.  Read more about the conference.\n[https://uwaterloo.ca/annual-o
 ntario-psychology-undergraduate-thesis-conference-2019/] 
DTSTAMP:20260419T122419Z
END:VEVENT
END:VCALENDAR