BEGIN:VCALENDAR
VERSION:2.0
PRODID:-//Drupal iCal API//EN
X-WR-CALNAME:Events items teaser
X-WR-TIMEZONE:America/Toronto
BEGIN:VTIMEZONE
TZID:America/Toronto
X-LIC-LOCATION:America/Toronto
BEGIN:DAYLIGHT
TZNAME:EDT
TZOFFSETFROM:-0500
TZOFFSETTO:-0400
DTSTART:20220313T070000
END:DAYLIGHT
BEGIN:STANDARD
TZNAME:EST
TZOFFSETFROM:-0400
TZOFFSETTO:-0500
DTSTART:20221106T060000
END:STANDARD
END:VTIMEZONE
BEGIN:VEVENT
UID:69e7b0b533036
DTSTART;TZID=America/Toronto:20221117T190000
SEQUENCE:0
TRANSP:TRANSPARENT
DTEND;TZID=America/Toronto:20221117T203000
URL:https://uwaterloo.ca/psychology/events/teens-and-social-relationships
SUMMARY:Teens and social relationships
CLASS:PUBLIC
DESCRIPTION:Please join us for a Community Education Event at the Kitchener
  Public\nLibrary Central branch (meeting room C) on Thursday November 17\,
  2022\nfrom 7:00 pm to 8:30 pm. \n\nClinical psychology graduate students
  Jasmine Zhang\, Charlotte Aiken\,\nand Aliya McNeil will present a worksh
 op for parents and caring adults\non Teens and Social Relationships:\n\nTE
 ENS AND SOCIAL RELATIONSHIPS
DTSTAMP:20260421T171533Z
END:VEVENT
END:VCALENDAR