BEGIN:VCALENDAR
VERSION:2.0
PRODID:-//Drupal iCal API//EN
X-WR-CALNAME:Events items teaser
X-WR-TIMEZONE:America/Toronto
BEGIN:VTIMEZONE
TZID:America/Toronto
X-LIC-LOCATION:America/Toronto
BEGIN:DAYLIGHT
TZNAME:EDT
TZOFFSETFROM:-0500
TZOFFSETTO:-0400
DTSTART:20250309T070000
END:DAYLIGHT
BEGIN:STANDARD
TZNAME:EST
TZOFFSETFROM:-0400
TZOFFSETTO:-0500
DTSTART:20251102T060000
END:STANDARD
END:VTIMEZONE
BEGIN:VEVENT
UID:69e97b321dac1
DTSTART;TZID=America/Toronto:20260127T100000
SEQUENCE:0
TRANSP:TRANSPARENT
DTEND;TZID=America/Toronto:20260127T130000
URL:https://uwaterloo.ca/psychology/events/emily-grants-phd-defence
LOCATION:PAS - Psychology\, Anthropology\, Sociology 200 University Avenue 
 West Waterloo ON N2L 3G1 Canada
SUMMARY:Emily Grant's PhD Defence
CLASS:PUBLIC
DESCRIPTION:Emily Grant's thesis is entitled: \"Perceived Restorativeness a
 nd\nRestorative Outcomes: A Comparative Study of Diverse Environments in\n
 Urban and Natural Settings.\"\n\nAll are welcome to attend. 
DTSTAMP:20260423T015146Z
END:VEVENT
BEGIN:VEVENT
UID:69e97b322204f
DTSTART;TZID=America/Toronto:20260109T100000
SEQUENCE:0
TRANSP:TRANSPARENT
DTEND;TZID=America/Toronto:20260109T130000
URL:https://uwaterloo.ca/psychology/events/emilie-carons-phd-defence
LOCATION:PAS - Psychology\, Anthropology\, Sociology 200 University Avenue 
 West Waterloo ON N2L 3G1 Canada
SUMMARY:Emilie Caron's PhD Defence
CLASS:PUBLIC
DESCRIPTION:Emilie Caron's thesis is entitled: \"Posture and Attention.\"\n
 \nAll are welcome to attend. 
DTSTAMP:20260423T015146Z
END:VEVENT
BEGIN:VEVENT
UID:69e97b3223301
DTSTART;TZID=America/Toronto:20251118T190000
SEQUENCE:0
TRANSP:TRANSPARENT
DTEND;TZID=America/Toronto:20251118T203000
URL:https://uwaterloo.ca/psychology/events/mind-environment-connection-how-
 does-nature-affect-our-well
LOCATION:Central Library 85 Queen Street North Meeting Room A Kitchener ON 
 N2H 2H1 Canada
SUMMARY:The mind-environment connection: How does nature affect our\nwell-b
 eing?
CLASS:PUBLIC
DESCRIPTION:Please join us in supporting our clinical students in upcoming\
 nCommunity Education events to be held at the Kitchener Public Library\nth
 is fall. \n\nClinical psychology graduate students Monica Grove and Brian
 na\nMacPherson will present a workshop for the general public.
DTSTAMP:20260423T015146Z
END:VEVENT
BEGIN:VEVENT
UID:69e97b3224012
DTSTART;TZID=America/Toronto:20251104T190000
SEQUENCE:0
TRANSP:TRANSPARENT
DTEND;TZID=America/Toronto:20251104T203000
URL:https://uwaterloo.ca/psychology/events/staying-informed-without-burnout
 -strategies-mindful-media
LOCATION:Central Library 85 Queen Street North Meeting Room A Kitchener ON 
 N2H 2H1 Canada
SUMMARY:Staying informed without burnout: Strategies for mindful media and\
 nnews consumption
CLASS:PUBLIC
DESCRIPTION:Please join us in supporting our clinical students in upcoming\
 nCommunity Education events to be held at the Kitchener Public Library\nth
 is fall. \n\nClinical psychology graduate students Jasmine Zhang and Bria
 nna\nMacPherson will present a workshop for the general public.
DTSTAMP:20260423T015146Z
END:VEVENT
BEGIN:VEVENT
UID:69e97b3224b39
DTSTART;TZID=America/Toronto:20251029T130000
SEQUENCE:0
TRANSP:TRANSPARENT
DTEND;TZID=America/Toronto:20251029T143000
URL:https://uwaterloo.ca/psychology/events/lifes-changing-seasons-taking-cl
 oser-look-navigating
SUMMARY:Life’s changing seasons: Taking a closer look at navigating\nrela
 tionships as we grow
CLASS:PUBLIC
DESCRIPTION:Please join us in supporting our clinical students in upcoming\
 nCommunity Education events to be held at the Kitchener Public Library\nth
 is fall. \n\nClinical psychology graduate students Sim Tung\, Bailea Erb\
 , and\nChantelle Castelino will present a workshop to the Active Adults\n
 Program (adults ages 50+).
DTSTAMP:20260423T015146Z
END:VEVENT
BEGIN:VEVENT
UID:69e97b3225437
DTSTART;TZID=America/Toronto:20251205T090000
SEQUENCE:0
TRANSP:TRANSPARENT
DTEND;TZID=America/Toronto:20251205T120000
URL:https://uwaterloo.ca/psychology/events/julia-mcneils-phd-oral-defence-0
LOCATION:PAS - Psychology\, Anthropology\, Sociology 200 University Avenue 
 West Waterloo ON N2L 3G1 Canada
SUMMARY:Julia McNeil's PhD Oral Defence
CLASS:PUBLIC
DESCRIPTION:Julia McNeil's thesis is entitled: \"Love\, Resilience\, and th
 e Past:\nThe Role of Positive Emotion Regulation in Overcoming Childhood\n
 Maltreatment and Building Strong Romantic Relationships.\"\n\nAll are welc
 ome to attend. 
DTSTAMP:20260423T015146Z
END:VEVENT
BEGIN:VEVENT
UID:69e97b322605f
DTSTART;TZID=America/Toronto:20251204T130000
SEQUENCE:0
TRANSP:TRANSPARENT
DTEND;TZID=America/Toronto:20251204T160000
URL:https://uwaterloo.ca/psychology/events/yadurshana-sivashankars-phd-oral
 -defence
LOCATION:PAS - Psychology\, Anthropology\, Sociology 200 University Avenue 
 West Waterloo ON N2L 3G1 Canada
SUMMARY:Yadurshana Sivashankar's PhD Oral Defence
CLASS:PUBLIC
DESCRIPTION:Yadurshana Sivashankar’s thesis is entitled: \"Identifying t
 he\nRelative Contribution of Motoric and Cognitive Engagement on Spatial\n
 Memory.\"\n\nAll are welcome to attend. 
DTSTAMP:20260423T015146Z
END:VEVENT
BEGIN:VEVENT
UID:69e97b3226b39
DTSTART;TZID=America/Toronto:20250912T090000
SEQUENCE:0
TRANSP:TRANSPARENT
DTEND;TZID=America/Toronto:20250912T100000
URL:https://uwaterloo.ca/psychology/events/jatheesh-srikantharajahs-phd-ora
 l-defence
LOCATION:PAS - Psychology\, Anthropology\, Sociology 200 University Avenue 
 West Waterloo ON N2L 3G1 Canada
SUMMARY:Jatheesh Srikantharajah’s PhD Oral Defence
CLASS:PUBLIC
DESCRIPTION:Jatheesh Srikantharajah’s thesis is entitled: “Eye Moveme
 nts:\nMeasuring Fatigue and Attention in Natural and Urban Scenes\".\n\nAl
 l are welcome to attend. 
DTSTAMP:20260423T015146Z
END:VEVENT
BEGIN:VEVENT
UID:69e97b322766f
DTSTART;TZID=America/Toronto:20250819T090000
SEQUENCE:0
TRANSP:TRANSPARENT
DTEND;TZID=America/Toronto:20250819T120000
URL:https://uwaterloo.ca/psychology/events/jessica-ross-phd-oral-defence
LOCATION:PAS - Psychology\, Anthropology\, Sociology 200 University Avenue 
 West Waterloo ON N2L 3G1 Canada
SUMMARY:Jessica Ross' PhD Oral Defence
CLASS:PUBLIC
DESCRIPTION:Jessica Ross' thesis is entitled: \"Looking Back or Looking Ahe
 ad:\nMetamotivational Beliefs About Progress Framing in Goal Pursuit.\"\n\
 nAll are welcome to attend.
DTSTAMP:20260423T015146Z
END:VEVENT
BEGIN:VEVENT
UID:69e97b32280a9
DTSTART;TZID=America/Toronto:20250721T100000
SEQUENCE:0
TRANSP:TRANSPARENT
DTEND;TZID=America/Toronto:20250721T130000
URL:https://uwaterloo.ca/psychology/events/vanja-vidovics-phd-oral-defence
LOCATION:PAS - Psychology\, Anthropology\, Sociology 200 University Avenue 
 West Waterloo ON N2L 3G1 Canada
SUMMARY:Vanja Vidovic's PhD Oral Defence
CLASS:PUBLIC
DESCRIPTION:Vanja Vidovic's thesis is entitled: “Towards an Understandi
 ng of\nSocial Anxiety and Close Friendships: The Role of Expectations\,\nN
 egative Self Portrayal Concerns\, and the Discrepancy Gap.\"\n\nAll are we
 lcome to attend. 
DTSTAMP:20260423T015146Z
END:VEVENT
END:VCALENDAR