BEGIN:VCALENDAR
VERSION:2.0
PRODID:-//Drupal iCal API//EN
X-WR-CALNAME:Events items teaser
X-WR-TIMEZONE:America/Toronto
BEGIN:VTIMEZONE
TZID:America/Toronto
X-LIC-LOCATION:America/Toronto
BEGIN:DAYLIGHT
TZNAME:EDT
TZOFFSETFROM:-0500
TZOFFSETTO:-0400
DTSTART:20210314T070000
END:DAYLIGHT
BEGIN:STANDARD
TZNAME:EST
TZOFFSETFROM:-0400
TZOFFSETTO:-0500
DTSTART:20201101T060000
END:STANDARD
END:VTIMEZONE
BEGIN:VEVENT
UID:69eaeaf146350
DTSTART;TZID=America/Toronto:20210519T130000
SEQUENCE:0
TRANSP:TRANSPARENT
DTEND;TZID=America/Toronto:20210519T161500
URL:https://uwaterloo.ca/public-health-sciences/events/hallman-lecture-and-
 panel-covid-19-and-indigenous
SUMMARY:Hallman Lecture and Panel: COVID-19 and Indigenous communities
CLASS:PUBLIC
DESCRIPTION:This Hallman lecture will include a discussion of the COVID-19\
 nresponse from the perspective of the National Chief of the Assembly of\nF
 irst Nations\, Perry Bellegarde\, and a panel discussion of national\nand 
 regional successes and challenges.
DTSTAMP:20260424T040049Z
END:VEVENT
END:VCALENDAR