BEGIN:VCALENDAR
VERSION:2.0
PRODID:-//Drupal iCal API//EN
X-WR-CALNAME:Events items teaser
X-WR-TIMEZONE:America/Toronto
BEGIN:VTIMEZONE
TZID:America/Toronto
X-LIC-LOCATION:America/Toronto
BEGIN:DAYLIGHT
TZNAME:EDT
TZOFFSETFROM:-0500
TZOFFSETTO:-0400
DTSTART:20250309T070000
END:DAYLIGHT
BEGIN:DAYLIGHT
TZNAME:EDT
TZOFFSETFROM:-0500
TZOFFSETTO:-0400
DTSTART:20240310T070000
END:DAYLIGHT
BEGIN:DAYLIGHT
TZNAME:EDT
TZOFFSETFROM:-0500
TZOFFSETTO:-0400
DTSTART:20230312T070000
END:DAYLIGHT
BEGIN:STANDARD
TZNAME:EST
TZOFFSETFROM:-0400
TZOFFSETTO:-0500
DTSTART:20241103T060000
END:STANDARD
BEGIN:STANDARD
TZNAME:EST
TZOFFSETFROM:-0400
TZOFFSETTO:-0500
DTSTART:20231105T060000
END:STANDARD
BEGIN:STANDARD
TZNAME:EST
TZOFFSETFROM:-0400
TZOFFSETTO:-0500
DTSTART:20221106T060000
END:STANDARD
END:VTIMEZONE
BEGIN:VEVENT
UID:69e9a29ba7c0a
DTSTART;TZID=America/Toronto:20251024T143000
SEQUENCE:0
TRANSP:TRANSPARENT
DTEND;TZID=America/Toronto:20251024T163000
URL:https://uwaterloo.ca/public-health-sciences/events/faculty-health-convo
 cation-fall-2025
SUMMARY:Faculty of Health Convocation - Fall 2025
CLASS:PUBLIC
DESCRIPTION:Convocation is a special time for our graduates to celebrate th
 eir\nachievements with family and friends. University of Waterloo's Fall\n
 Convocation ceremony for the Faculty of Health takes place Friday\,\nOcto
 ber 24 at 2:30 p.m.
DTSTAMP:20260423T043955Z
END:VEVENT
BEGIN:VEVENT
UID:69e9a29baa3ec
DTSTART;TZID=America/Toronto:20250610T143000
SEQUENCE:0
TRANSP:TRANSPARENT
DTEND;TZID=America/Toronto:20250610T163000
URL:https://uwaterloo.ca/public-health-sciences/events/faculty-health-convo
 cation-spring-2025
SUMMARY:Faculty of Health Convocation - Spring 2025
CLASS:PUBLIC
DESCRIPTION:Convocation is a special time for our graduates to celebrate th
 eir\nachievements with family and friends. University of Waterloo's Spring
 \nConvocation ceremony for the Faculty of Health takes place Tuesday\,\nJ
 une 10 at 2:30 p.m.
DTSTAMP:20260423T043955Z
END:VEVENT
BEGIN:VEVENT
UID:69e9a29baad36
DTSTART;TZID=America/Toronto:20241025T100000
SEQUENCE:0
TRANSP:TRANSPARENT
DTEND;TZID=America/Toronto:20241025T120000
URL:https://uwaterloo.ca/public-health-sciences/events/faculty-health-convo
 cation-fall-2024
SUMMARY:Faculty of Health Convocation - Fall 2024
CLASS:PUBLIC
DESCRIPTION:Convocation is a special time for our graduates to celebrate th
 eir\nachievements with family and friends. University of Waterloo's Fall\n
 Convocation ceremony for the Faculty of Health takes place Friday\,\nOcto
 ber 25 at 10 a.m.
DTSTAMP:20260423T043955Z
END:VEVENT
BEGIN:VEVENT
UID:69e9a29bab5a0
DTSTART;TZID=America/Toronto:20240917T093000
SEQUENCE:0
TRANSP:TRANSPARENT
DTEND;TZID=America/Toronto:20240917T110000
URL:https://uwaterloo.ca/public-health-sciences/events/australian-child-mal
 treatment-study
LOCATION:University of Waterloo - Health Expansion Building (EXP)\, Room 16
 86 200 University Ave West Waterloo ON N2L 3G1 Canada
SUMMARY:The Australian Child Maltreatment Study
CLASS:PUBLIC
DESCRIPTION:Dr. James Scott\, professor of child and youth psychiatry at Th
 e\nUniversity of Queensland\, presents The Australian Child Maltreatment\n
 Study: the first national survey to measure the prevalence of all five\nfo
 rms of child maltreatment and the associated health and psychosocial\nprob
 lems.
DTSTAMP:20260423T043955Z
END:VEVENT
BEGIN:VEVENT
UID:69e9a29bac70b
DTSTART;TZID=America/Toronto:20240611T143000
SEQUENCE:0
TRANSP:TRANSPARENT
DTEND;TZID=America/Toronto:20240611T163000
URL:https://uwaterloo.ca/public-health-sciences/events/faculty-health-convo
 cation-spring-2024
SUMMARY:Faculty of Health Convocation - Spring 2024
CLASS:PUBLIC
DESCRIPTION:Convocation is a special time for our graduates to celebrate th
 eir\nachievements with family and friends. University of Waterloo's Spring
 \nConvocation ceremony for the Faculty of Health takes place Tuesday\,\nJ
 une 11 at 2:30 p.m.
DTSTAMP:20260423T043955Z
END:VEVENT
BEGIN:VEVENT
UID:69e9a29bacf25
DTSTART;TZID=America/Toronto:20240405T083000
SEQUENCE:0
TRANSP:TRANSPARENT
DTEND;TZID=America/Toronto:20240405T170000
URL:https://uwaterloo.ca/public-health-sciences/events/2024-research-and-pr
 actice-health-sciences-conference
LOCATION:FED - Federation Hall 200 University Avenue West Waterloo ON N2L 3
 G1 Canada
SUMMARY:2024 Research and Practice in Health Sciences Conference
CLASS:PUBLIC
DESCRIPTION:The School of Public Health Sciences (SPHS) is delighted to hos
 t the\nResearch and Practice in Health Sciences Conference featuring a car
 eer\npanel\, oral presentations and poster presentations. Open to all\nUWa
 terloo students.
DTSTAMP:20260423T043955Z
END:VEVENT
BEGIN:VEVENT
UID:69e9a29bad888
DTSTART;TZID=America/Toronto:20231020T143000
SEQUENCE:0
TRANSP:TRANSPARENT
DTEND;TZID=America/Toronto:20231020T163000
URL:https://uwaterloo.ca/public-health-sciences/events/faculty-health-convo
 cation-fall-2023
LOCATION:PAC - Physical Activities Complex Waterloo ON N2L 3G1 Canada
SUMMARY:Faculty of Health Convocation - Fall 2023
CLASS:PUBLIC
DESCRIPTION:Convocation is a special time for our graduates to celebrate th
 eir\nachievements with family and friends.
DTSTAMP:20260423T043955Z
END:VEVENT
BEGIN:VEVENT
UID:69e9a29bae2b5
DTSTART;TZID=America/Toronto:20241030T160000
SEQUENCE:0
TRANSP:TRANSPARENT
DTEND;TZID=America/Toronto:20241030T190000
URL:https://uwaterloo.ca/public-health-sciences/events/graduate-studies-inf
 o-night
LOCATION:Health Expansion Building (EXP) 1689 200 University Ave West Water
 loo ON N2L 3G1 Canada
SUMMARY:Graduate Studies Info Night
CLASS:PUBLIC
DESCRIPTION:Join us for Graduate Studies Info Night to explore the fundamen
 tals of\ngrad school and graduate programs in the Faculty of Health.
DTSTAMP:20260423T043955Z
END:VEVENT
BEGIN:VEVENT
UID:69e9a29baec37
DTSTART;TZID=America/Toronto:20230309T120000
SEQUENCE:0
TRANSP:TRANSPARENT
DTEND;TZID=America/Toronto:20230309T130000
URL:https://uwaterloo.ca/public-health-sciences/events/public-lecture-healt
 h-care-accessible-all
LOCATION:LHI - Lyle S. Hallman Institute for Health Promotion 200 Universit
 y Avenue West Sun Life Auditorium - LHI 1621 Waterloo ON N2L 3G1 Canada
SUMMARY:Public lecture: Health Care Accessible to All
CLASS:PUBLIC
DESCRIPTION:Dr. Jukema will address how citizens\, researchers\, profession
 als\,\ngovernment and organizations can collaborate for better access to\
 nhealth care for vulnerable people.
DTSTAMP:20260423T043955Z
END:VEVENT
BEGIN:VEVENT
UID:69e9a29baf65d
DTSTART;TZID=America/Toronto:20230330T090000
SEQUENCE:0
TRANSP:TRANSPARENT
DTEND;TZID=America/Toronto:20230330T140000
URL:https://uwaterloo.ca/public-health-sciences/events/2023-research-and-pr
 actice-health-sciences-conference
LOCATION:BMH - B.C. Matthews Hall 200 University Avenue West Waterloo ON N2
 L 3G1 Canada
SUMMARY:2023 Research and Practice in Health Sciences Conference
CLASS:PUBLIC
DESCRIPTION:The School of Public Health Sciences (SPHS) is delighted to be 
 hosting\nthe inaugural Research and Practice in Health Sciences Conference
 . The\nconference will take place Thursday\, March 30\, 2023 in a hybrid\n
 format. 
DTSTAMP:20260423T043955Z
END:VEVENT
END:VCALENDAR