BEGIN:VCALENDAR
VERSION:2.0
PRODID:-//Drupal iCal API//EN
X-WR-CALNAME:Events items teaser
X-WR-TIMEZONE:America/Toronto
BEGIN:VTIMEZONE
TZID:America/Toronto
X-LIC-LOCATION:America/Toronto
BEGIN:DAYLIGHT
TZNAME:EDT
TZOFFSETFROM:-0500
TZOFFSETTO:-0400
DTSTART:20230312T070000
END:DAYLIGHT
BEGIN:STANDARD
TZNAME:EST
TZOFFSETFROM:-0400
TZOFFSETTO:-0500
DTSTART:20231105T060000
END:STANDARD
END:VTIMEZONE
BEGIN:VEVENT
UID:69b0633208290
DTSTART;TZID=America/Toronto:20240229T143000
SEQUENCE:0
TRANSP:TRANSPARENT
DTEND;TZID=America/Toronto:20240229T153000
URL:https://uwaterloo.ca/pure-mathematics-geometry-topology/events/hyperbol
 ic-bloch-transform
SUMMARY:On the hyperbolic Bloch transform
CLASS:PUBLIC
DESCRIPTION:ÁKOS NAGY\, BEIT CANADA\n\nMotivated by recent theoretical and
  experimental developments in the\nphysics of hyperbolic crystals\, I will
  introduce the noncommutative\nBloch transform for Fuchsian groups which I
  will call the hyperbolic\nBloch transform (HBT). The HBT transforms wave 
 functions on the\nhyperbolic plane to sections of irreducible\, flat\, Her
 mitian vector\nbundles over the orbit space and transforms the hyperbolic 
 Laplacian\ninto the covariant Laplacian. I will prove that the HBT is inje
 ctive\nand “asymptotically unitary”. If time permits\, I will talk abo
 ut\npotential applications to hyperbolic band theory. This is a joint work
 \nwith Steve Rayan (arXiv:2208.02749).\n\nMC 5417
DTSTAMP:20260310T183010Z
END:VEVENT
END:VCALENDAR