BEGIN:VCALENDAR
VERSION:2.0
PRODID:-//Drupal iCal API//EN
X-WR-CALNAME:Events items teaser
X-WR-TIMEZONE:America/Toronto
BEGIN:VTIMEZONE
TZID:America/Toronto
X-LIC-LOCATION:America/Toronto
BEGIN:DAYLIGHT
TZNAME:EDT
TZOFFSETFROM:-0500
TZOFFSETTO:-0400
DTSTART:20230312T070000
END:DAYLIGHT
BEGIN:STANDARD
TZNAME:EST
TZOFFSETFROM:-0400
TZOFFSETTO:-0500
DTSTART:20231105T060000
END:STANDARD
END:VTIMEZONE
BEGIN:VEVENT
UID:69b6dbed90a7f
DTSTART;TZID=America/Toronto:20240215T143000
SEQUENCE:0
TRANSP:TRANSPARENT
DTEND;TZID=America/Toronto:20240215T153000
URL:https://uwaterloo.ca/pure-mathematics-geometry-topology/events/calderon
 -problem-connections-coupled-spinors
SUMMARY:The Calderón problem for U(N)-connections coupled to spinors
CLASS:PUBLIC
DESCRIPTION:CARLOS VALERO\, MCGILL UNIVERSITY\n\nThe Calderón problem refe
 rs to the question of whether one can\ndetermine the Riemannian metric on 
 a manifold with boundary from its\n\"Dirichlet-to-Neumann (DN) map\"\, whi
 ch maps a function on the boundary\nto the normal derivative of its harmon
 ic extension. In this talk\, we\ndefine the analogue of the DN map for the
  spinor Laplacian twisted by\na unitary connection and show that it is a p
 seudodifferential operator\nof order 1\, whose symbol determines the Taylo
 r series of the metric\nand connection at the boundary. We go on to show t
 hat if all the data\nare real-analytic\, then the spinor DN map determines
  the connection\nmodulo gauge.\n\nMC 5417
DTSTAMP:20260315T161853Z
END:VEVENT
END:VCALENDAR