BEGIN:VCALENDAR
VERSION:2.0
PRODID:-//Drupal iCal API//EN
X-WR-CALNAME:Events items teaser
X-WR-TIMEZONE:America/Toronto
BEGIN:VTIMEZONE
TZID:America/Toronto
X-LIC-LOCATION:America/Toronto
BEGIN:DAYLIGHT
TZNAME:EDT
TZOFFSETFROM:-0500
TZOFFSETTO:-0400
DTSTART:20230312T070000
END:DAYLIGHT
BEGIN:STANDARD
TZNAME:EST
TZOFFSETFROM:-0400
TZOFFSETTO:-0500
DTSTART:20231105T060000
END:STANDARD
END:VTIMEZONE
BEGIN:VEVENT
UID:69b07e92e86bd
DTSTART;TZID=America/Toronto:20240307T143000
SEQUENCE:0
TRANSP:TRANSPARENT
DTEND;TZID=America/Toronto:20240307T153000
URL:https://uwaterloo.ca/pure-mathematics-geometry-topology/events/solitons
 -and-extended-bogomolny-equations-jumping-data
SUMMARY:Solitons and the Extended Bogomolny Equations with Jumping Data
CLASS:PUBLIC
DESCRIPTION:ANDY ROYSTON\, PENN STATE UNIVERSITY\n\nThe extended Bogomolny 
 equations are a system of PDE's for a\nconnection and a triplet of Higgs f
 ields on a three-dimensional space.\nThey are a hybrid of the Bogomolny eq
 uations and the Nahm equations.\nAfter reviewing how these latter systems 
 arise in the study of\nmagnetic monopoles\, I will present an energy funct
 ional for which\nsolutions of the extended Bogomolny equations are minimiz
 ers in a\nfixed topological class. In this construction\, the connection a
 nd\nHiggs triplet are defined on all of R^3 and couple to additional\ndyna
 mical fields localized on a two-plane that are analogous to\njumping data 
 in the Nahm equations. Solutions can therefore be\ninterpreted as finite-e
 nergy BPS solitons in a three-dimensional\ntheory with a planar defect. Th
 is talk is based on work done in\ncollaboration with Sophia Domokos.\n\nMC
  5417
DTSTAMP:20260310T202658Z
END:VEVENT
END:VCALENDAR