BEGIN:VCALENDAR
VERSION:2.0
PRODID:-//Drupal iCal API//EN
X-WR-CALNAME:Events items teaser
X-WR-TIMEZONE:America/Toronto
BEGIN:VTIMEZONE
TZID:America/Toronto
X-LIC-LOCATION:America/Toronto
BEGIN:DAYLIGHT
TZNAME:EDT
TZOFFSETFROM:-0500
TZOFFSETTO:-0400
DTSTART:20240310T070000
END:DAYLIGHT
BEGIN:STANDARD
TZNAME:EST
TZOFFSETFROM:-0400
TZOFFSETTO:-0500
DTSTART:20231105T060000
END:STANDARD
END:VTIMEZONE
BEGIN:VEVENT
UID:69b3d7ca1c057
DTSTART;TZID=America/Toronto:20240321T143000
SEQUENCE:0
TRANSP:TRANSPARENT
DTEND;TZID=America/Toronto:20240321T153000
URL:https://uwaterloo.ca/pure-mathematics-geometry-topology/events/finitene
 ss-monodromy-fibered-calabi-yau-threefolds
SUMMARY:Finiteness of monodromy for fibered Calabi-Yau threefolds
CLASS:PUBLIC
DESCRIPTION:FRANÇOIS GREER\, MICHIGAN STATE UNIVERSITY\n\nAn old question 
 going back to S.T. Yau asks whether there are finitely\nmany diffeomorphis
 m types for smooth projective Calabi-Yau manifolds\nof a given dimension. 
 The answer is affirmative for dimensions one and\ntwo (elliptic curves and
  K3 surfaces). It has recently been settled\nfor Calabi-Yau threefolds adm
 itting elliptic fibrations. We discuss\nthe case of CY3’s admitting abel
 ian surface or K3 fibrations. \n\nMC 5417
DTSTAMP:20260313T092426Z
END:VEVENT
END:VCALENDAR