BEGIN:VCALENDAR
VERSION:2.0
PRODID:-//Drupal iCal API//EN
X-WR-CALNAME:Events items teaser
X-WR-TIMEZONE:America/Toronto
BEGIN:VTIMEZONE
TZID:America/Toronto
X-LIC-LOCATION:America/Toronto
BEGIN:DAYLIGHT
TZNAME:EDT
TZOFFSETFROM:-0500
TZOFFSETTO:-0400
DTSTART:20160313T070000
END:DAYLIGHT
BEGIN:STANDARD
TZNAME:EST
TZOFFSETFROM:-0400
TZOFFSETTO:-0500
DTSTART:20161106T060000
END:STANDARD
END:VTIMEZONE
BEGIN:VEVENT
UID:69b3a29fbffea
DTSTART;TZID=America/Toronto:20170228T110000
SEQUENCE:0
TRANSP:TRANSPARENT
DTEND;TZID=America/Toronto:20170228T110000
URL:https://uwaterloo.ca/pure-mathematics-logic/events/subdirectly-irreduci
 ble-algebras-varieties-2-semilattices
SUMMARY:“Subdirectly Irreducible Algebras in Varieties of 2-semilattices
 ”
CLASS:PUBLIC
DESCRIPTION:IAN PAYNE\, DEPARTMENT OF PURE MATHEMATICS\, UNIVERSITY OF WATE
 RLOO
DTSTAMP:20260313T053735Z
END:VEVENT
END:VCALENDAR