BEGIN:VCALENDAR
VERSION:2.0
PRODID:-//Drupal iCal API//EN
X-WR-CALNAME:Events items teaser
X-WR-TIMEZONE:America/Toronto
BEGIN:VTIMEZONE
TZID:America/Toronto
X-LIC-LOCATION:America/Toronto
BEGIN:DAYLIGHT
TZNAME:EDT
TZOFFSETFROM:-0500
TZOFFSETTO:-0400
DTSTART:20170312T070000
END:DAYLIGHT
BEGIN:STANDARD
TZNAME:EST
TZOFFSETFROM:-0400
TZOFFSETTO:-0500
DTSTART:20171105T060000
END:STANDARD
END:VTIMEZONE
BEGIN:VEVENT
UID:69e9f618ae03e
DTSTART;TZID=America/Toronto:20180307T153000
SEQUENCE:0
TRANSP:TRANSPARENT
DTEND;TZID=America/Toronto:20180307T153000
URL:https://uwaterloo.ca/pure-mathematics/events/algebra-seminar-28
SUMMARY:Algebra Seminar
CLASS:PUBLIC
DESCRIPTION:LIRON SPEYER\, UNIVERSITY OF VIRGINIA\n\n\"Decomposable Specht
  modules\"\n\nI will give a brief survey of the study of decomposable Spec
 ht modules\nfor the symmetric group and its Hecke algebra\, which includes
  results\nof Murphy\, Dodge and Fayers\, and myself. I will then report on
  an\nongoing project with Louise Sutton\, in which we are studying\ndecomp
 osable Specht modules for the Hecke algebra of type _B _indexed\nby 'biho
 oks'.\n\nMC 5403
DTSTAMP:20260423T103608Z
END:VEVENT
END:VCALENDAR