BEGIN:VCALENDAR
VERSION:2.0
PRODID:-//Drupal iCal API//EN
X-WR-CALNAME:Events items teaser
X-WR-TIMEZONE:America/Toronto
BEGIN:VTIMEZONE
TZID:America/Toronto
X-LIC-LOCATION:America/Toronto
BEGIN:DAYLIGHT
TZNAME:EDT
TZOFFSETFROM:-0500
TZOFFSETTO:-0400
DTSTART:20180311T070000
END:DAYLIGHT
BEGIN:STANDARD
TZNAME:EST
TZOFFSETFROM:-0400
TZOFFSETTO:-0500
DTSTART:20181104T060000
END:STANDARD
END:VTIMEZONE
BEGIN:VEVENT
UID:69eaf2b5deab4
DTSTART;TZID=America/Toronto:20190128T160000
SEQUENCE:0
TRANSP:TRANSPARENT
DTEND;TZID=America/Toronto:20190128T160000
URL:https://uwaterloo.ca/pure-mathematics/events/pure-math-colloquium-36
SUMMARY:Pure Math Colloquium
CLASS:PUBLIC
DESCRIPTION:MICHAEL LIPNOWSKI\, MCGILL UNIVERSITY\n\n\"Algorithms for the t
 opology of arithmetic groups\"\n\nInteger matrix Lie groups \\Gamma carry
  extremely deep arithmetic\ninformation.  Topological invariants of \\Ga
 mma are\nparticularly interesting.  I will describe an algorithm whic
 h\,\ngiven \\Gamma\, computes the homology of \\Gamma together with the\
 naction of certain correspondences on it (Hecke operators).  Joint\nwork 
 with Aurel Page.\n\nMC 5501
DTSTAMP:20260424T043357Z
END:VEVENT
END:VCALENDAR