BEGIN:VCALENDAR
VERSION:2.0
PRODID:-//Drupal iCal API//EN
X-WR-CALNAME:Events items teaser
X-WR-TIMEZONE:America/Toronto
BEGIN:VTIMEZONE
TZID:America/Toronto
X-LIC-LOCATION:America/Toronto
BEGIN:DAYLIGHT
TZNAME:EDT
TZOFFSETFROM:-0500
TZOFFSETTO:-0400
DTSTART:20220313T070000
END:DAYLIGHT
BEGIN:STANDARD
TZNAME:EST
TZOFFSETFROM:-0400
TZOFFSETTO:-0500
DTSTART:20211107T060000
END:STANDARD
END:VTIMEZONE
BEGIN:VEVENT
UID:69e48ae479588
DTSTART;TZID=America/Toronto:20220823T133000
SEQUENCE:0
TRANSP:TRANSPARENT
DTEND;TZID=America/Toronto:20220823T133000
URL:https://uwaterloo.ca/pure-mathematics/events/algebraic-geometry-working
 -seminar-33
LOCATION:MC 5403 Canada
SUMMARY:Algebraic Geometry Working Seminar
CLASS:PUBLIC
DESCRIPTION:CATHERINE ST-PIERRE\, UNIVERSITY OF WATERLOO\n\n\"BOREL FIXED I
 DEALS (IN KRULL DIMENSION 0)\"
DTSTAMP:20260419T075724Z
END:VEVENT
END:VCALENDAR