BEGIN:VCALENDAR
VERSION:2.0
PRODID:-//Drupal iCal API//EN
X-WR-CALNAME:Events items teaser
X-WR-TIMEZONE:America/Toronto
BEGIN:VTIMEZONE
TZID:America/Toronto
X-LIC-LOCATION:America/Toronto
BEGIN:DAYLIGHT
TZNAME:EDT
TZOFFSETFROM:-0500
TZOFFSETTO:-0400
DTSTART:20220313T070000
END:DAYLIGHT
BEGIN:STANDARD
TZNAME:EST
TZOFFSETFROM:-0400
TZOFFSETTO:-0500
DTSTART:20211107T060000
END:STANDARD
END:VTIMEZONE
BEGIN:VEVENT
UID:69eb188603d2e
DTSTART;TZID=America/Toronto:20221025T143000
SEQUENCE:0
TRANSP:TRANSPARENT
DTEND;TZID=America/Toronto:20221025T143000
URL:https://uwaterloo.ca/pure-mathematics/events/number-theory-seminar-87
SUMMARY:Number Theory Seminar
CLASS:PUBLIC
DESCRIPTION:GIAN CORDANA SANJAYA\, DEPARTMENT OF PURE MATHEMATICS\, UNIVERS
 ITY OF\nWATERLOO\n\n\"ON THE SQUAREFREE VALUES OF $A^4 + B^3$\"
DTSTAMP:20260424T071518Z
END:VEVENT
END:VCALENDAR