BEGIN:VCALENDAR
VERSION:2.0
PRODID:-//Drupal iCal API//EN
X-WR-CALNAME:Events items teaser
X-WR-TIMEZONE:America/Toronto
BEGIN:VTIMEZONE
TZID:America/Toronto
X-LIC-LOCATION:America/Toronto
BEGIN:DAYLIGHT
TZNAME:EDT
TZOFFSETFROM:-0500
TZOFFSETTO:-0400
DTSTART:20220313T070000
END:DAYLIGHT
BEGIN:STANDARD
TZNAME:EST
TZOFFSETFROM:-0400
TZOFFSETTO:-0500
DTSTART:20221106T060000
END:STANDARD
END:VTIMEZONE
BEGIN:VEVENT
UID:69e86beb603f4
DTSTART;TZID=America/Toronto:20221117T103000
SEQUENCE:0
TRANSP:TRANSPARENT
DTEND;TZID=America/Toronto:20221117T103000
URL:https://uwaterloo.ca/pure-mathematics/events/computability-theory-learn
 ing-seminar-5
SUMMARY:Computability Theory Learning Seminar
CLASS:PUBLIC
DESCRIPTION:XINYUE (CYNTHIA) XIE &amp; LAYTH AL-HELLAWI\, DEPARTMENT OF PURE\nM
 ATHEMATICS\, UNIVERSITY OF WATERLOO\n\n\"EFFECTIVENESS PROPERTIES OF THE W
 ALKER'S CANCELLATION THEOREM - PART\nII\"
DTSTAMP:20260422T063419Z
END:VEVENT
END:VCALENDAR