BEGIN:VCALENDAR
VERSION:2.0
PRODID:-//Drupal iCal API//EN
X-WR-CALNAME:Events items teaser
X-WR-TIMEZONE:America/Toronto
BEGIN:VTIMEZONE
TZID:America/Toronto
X-LIC-LOCATION:America/Toronto
BEGIN:DAYLIGHT
TZNAME:EDT
TZOFFSETFROM:-0500
TZOFFSETTO:-0400
DTSTART:20220313T070000
END:DAYLIGHT
BEGIN:STANDARD
TZNAME:EST
TZOFFSETFROM:-0400
TZOFFSETTO:-0500
DTSTART:20221106T060000
END:STANDARD
END:VTIMEZONE
BEGIN:VEVENT
UID:69e83a91b44f3
DTSTART;TZID=America/Toronto:20221115T100000
SEQUENCE:0
TRANSP:TRANSPARENT
DTEND;TZID=America/Toronto:20221115T100000
URL:https://uwaterloo.ca/pure-mathematics/events/student-number-theory-semi
 nar-49
SUMMARY:Student Number Theory Seminar
CLASS:PUBLIC
DESCRIPTION:YASH TOTANI\, DEPARTMENT OF PURE MATHEMATICS\, UNIVERSITY OF WA
 TERLOO\n\n\"A FUNCTION FIELD ANALOGUE OF LANDAU'S THEOREM\"\n\nA famous th
 eorem of Landau classifies the numbers which can be written\nas the sum of
  two squares and provides the asymptotic density of such\nnumbers in the s
 et of integers. In this talk\, we will be looking at a\nfunction field ana
 logue due to Soroker\, Smilansky and Wolf.\n\nThis seminar will be held jo
 intly online and in person:
DTSTAMP:20260422T030345Z
END:VEVENT
END:VCALENDAR