BEGIN:VCALENDAR
VERSION:2.0
PRODID:-//Drupal iCal API//EN
X-WR-CALNAME:Events items teaser
X-WR-TIMEZONE:America/Toronto
BEGIN:VTIMEZONE
TZID:America/Toronto
X-LIC-LOCATION:America/Toronto
BEGIN:DAYLIGHT
TZNAME:EDT
TZOFFSETFROM:-0500
TZOFFSETTO:-0400
DTSTART:20220313T070000
END:DAYLIGHT
BEGIN:STANDARD
TZNAME:EST
TZOFFSETFROM:-0400
TZOFFSETTO:-0500
DTSTART:20221106T060000
END:STANDARD
END:VTIMEZONE
BEGIN:VEVENT
UID:69e884a88f5b2
DTSTART;TZID=America/Toronto:20221117T130000
SEQUENCE:0
TRANSP:TRANSPARENT
DTEND;TZID=America/Toronto:20221117T130000
URL:https://uwaterloo.ca/pure-mathematics/events/horospherical-mmp-seminar-
 6
SUMMARY:Horospherical MMP Seminar
CLASS:PUBLIC
DESCRIPTION:MATTHEW SATRIANO\, DEPARTMENT OF PURE MATHEMATICS\, UNIVERSITY 
 OF\nWATERLOO\n\n\"THE CANONICAL DIVISOR AND PROPERTIES OF CARTIER DIVISORS
  FOR\nHOROSPHERICAL VARIETIES\"\n\nWe will discuss criteria for Cartier di
 visors to be base point free or\nample. We will also give a formula for th
 e canonical divisor. We will\ninclude many examples.\n\nThis seminar will 
 be held jointly online and in person:
DTSTAMP:20260422T081952Z
END:VEVENT
END:VCALENDAR