BEGIN:VCALENDAR
VERSION:2.0
PRODID:-//Drupal iCal API//EN
X-WR-CALNAME:Events items teaser
X-WR-TIMEZONE:America/Toronto
BEGIN:VTIMEZONE
TZID:America/Toronto
X-LIC-LOCATION:America/Toronto
BEGIN:DAYLIGHT
TZNAME:EDT
TZOFFSETFROM:-0500
TZOFFSETTO:-0400
DTSTART:20220313T070000
END:DAYLIGHT
BEGIN:STANDARD
TZNAME:EST
TZOFFSETFROM:-0400
TZOFFSETTO:-0500
DTSTART:20221106T060000
END:STANDARD
END:VTIMEZONE
BEGIN:VEVENT
UID:69ec2e6cb446a
DTSTART;TZID=America/Toronto:20230112T143000
SEQUENCE:0
TRANSP:TRANSPARENT
DTEND;TZID=America/Toronto:20230112T143000
URL:https://uwaterloo.ca/pure-mathematics/events/geometry-topology-seminar-
 118
SUMMARY:Geometry &amp; Topology Seminar
CLASS:PUBLIC
DESCRIPTION:SIYUAN LU\, MCMASTER UNIVERSITY\n\n\"ON THE REGULARITY OF LAGRA
 NGIAN PHASE EQUATION\"\n\nIn this talk\, I will first introduce the backgr
 ound and motivation for\nthe study of Lagrangian phase equation. I will th
 en discuss my recent\nwork on the regularity of Lagrangian phase equation.
  In the second\npart\, I will discuss some open problems relating to Lagra
 ngian phase\nequation.\n\nMC 5417
DTSTAMP:20260425T030100Z
END:VEVENT
END:VCALENDAR