BEGIN:VCALENDAR
VERSION:2.0
PRODID:-//Drupal iCal API//EN
X-WR-CALNAME:Events items teaser
X-WR-TIMEZONE:America/Toronto
BEGIN:VTIMEZONE
TZID:America/Toronto
X-LIC-LOCATION:America/Toronto
BEGIN:DAYLIGHT
TZNAME:EDT
TZOFFSETFROM:-0500
TZOFFSETTO:-0400
DTSTART:20230312T070000
END:DAYLIGHT
BEGIN:STANDARD
TZNAME:EST
TZOFFSETFROM:-0400
TZOFFSETTO:-0500
DTSTART:20221106T060000
END:STANDARD
END:VTIMEZONE
BEGIN:VEVENT
UID:69ebb87be5db2
DTSTART;TZID=America/Toronto:20230907T143000
SEQUENCE:0
TRANSP:TRANSPARENT
DTEND;TZID=America/Toronto:20230907T143000
URL:https://uwaterloo.ca/pure-mathematics/events/geometry-topology-seminar-
 138
SUMMARY:Geometry &amp; Topology Seminar
CLASS:PUBLIC
DESCRIPTION:STEPHEN MELCZER\, DEPARTMENT OF COMBINATORICS &amp; OPTIMIZATION\,\
 nUNIVERSITY OF WATERLOO\n\n\"A GEOMETRIC APPROACH TO ANALYTIC COMBINATORIC
 S\"
DTSTAMP:20260424T183747Z
END:VEVENT
END:VCALENDAR