BEGIN:VCALENDAR
VERSION:2.0
PRODID:-//Drupal iCal API//EN
X-WR-CALNAME:Events items teaser
X-WR-TIMEZONE:America/Toronto
BEGIN:VTIMEZONE
TZID:America/Toronto
X-LIC-LOCATION:America/Toronto
BEGIN:DAYLIGHT
TZNAME:EDT
TZOFFSETFROM:-0500
TZOFFSETTO:-0400
DTSTART:20230312T070000
END:DAYLIGHT
BEGIN:STANDARD
TZNAME:EST
TZOFFSETFROM:-0400
TZOFFSETTO:-0500
DTSTART:20231105T060000
END:STANDARD
END:VTIMEZONE
BEGIN:VEVENT
UID:69ebb87eed210
DTSTART;TZID=America/Toronto:20231123T143000
SEQUENCE:0
TRANSP:TRANSPARENT
DTEND;TZID=America/Toronto:20231123T153000
URL:https://uwaterloo.ca/pure-mathematics/events/geometry-topology-seminar-
 143
SUMMARY:Geometry &amp; Topology Seminar
CLASS:PUBLIC
DESCRIPTION:FREID TONG\, HARVARD UNIVERSITY\n\n\"ON SOME NEW MONGE-AMPERE F
 UNCTIONALS AND RELATED PDES\"\n\nThe Monge-Ampere equation is one of the m
 ost important PDE in\ngeometry\, and an important tool in the study of Mon
 ge-Ampere equations\nis the Monge-Ampere functional. In this talk\, I will
  discuss a new\ninteresting family of Monge-Ampere type functionals and th
 eir\nrelations to some geometric problems. This is based on joint work wit
 h\nS.-T. Yau.\n\nQNC 2501
DTSTAMP:20260424T183750Z
END:VEVENT
END:VCALENDAR