BEGIN:VCALENDAR
VERSION:2.0
PRODID:-//Drupal iCal API//EN
X-WR-CALNAME:Events items teaser
X-WR-TIMEZONE:America/Toronto
BEGIN:VTIMEZONE
TZID:America/Toronto
X-LIC-LOCATION:America/Toronto
BEGIN:DAYLIGHT
TZNAME:EDT
TZOFFSETFROM:-0500
TZOFFSETTO:-0400
DTSTART:20260308T070000
END:DAYLIGHT
BEGIN:STANDARD
TZNAME:EST
TZOFFSETFROM:-0400
TZOFFSETTO:-0500
DTSTART:20251102T060000
END:STANDARD
END:VTIMEZONE
BEGIN:VEVENT
UID:69e7aac59e406
DTSTART;TZID=America/Toronto:20260423T143000
SEQUENCE:0
TRANSP:TRANSPARENT
DTEND;TZID=America/Toronto:20260423T160000
URL:https://uwaterloo.ca/pure-mathematics/events/differential-geometry-work
 ing-seminar-185
SUMMARY:Differential Geometry Working Seminar
CLASS:PUBLIC
DESCRIPTION:PAUL CUSSON\, UNIVERSITY OF WATERLOO\n\n_Monopoles with rotatio
 nal symmetry_\n\nWe will first look at SU(2)-monopoles invariant under the
  action of a\ncircle subgroup of SO(3) about the z-axis.The polynomials cu
 tting out\ntheir spectral curves in TP^1 will be derived\, and these will 
 be used\nto describe thespectral curves of S^1-invariant SU(N)-monopoles f
 or\narbitrary N.\n\nMC 5403
DTSTAMP:20260421T165013Z
END:VEVENT
END:VCALENDAR