BEGIN:VCALENDAR
VERSION:2.0
PRODID:-//Drupal iCal API//EN
X-WR-CALNAME:Events items teaser
X-WR-TIMEZONE:America/Toronto
BEGIN:VTIMEZONE
TZID:America/Toronto
X-LIC-LOCATION:America/Toronto
BEGIN:DAYLIGHT
TZNAME:EDT
TZOFFSETFROM:-0500
TZOFFSETTO:-0400
DTSTART:20260308T070000
END:DAYLIGHT
BEGIN:STANDARD
TZNAME:EST
TZOFFSETFROM:-0400
TZOFFSETTO:-0500
DTSTART:20251102T060000
END:STANDARD
END:VTIMEZONE
BEGIN:VEVENT
UID:69e86936243a6
DTSTART;TZID=America/Toronto:20260430T143000
SEQUENCE:0
TRANSP:TRANSPARENT
DTEND;TZID=America/Toronto:20260430T160000
URL:https://uwaterloo.ca/pure-mathematics/events/differential-geometry-work
 ing-seminar-186
SUMMARY:Differential Geometry Working Seminar
CLASS:PUBLIC
DESCRIPTION:FACUNDO CAMANO\, UNIVERSITY OF WATERLOO\n\n_Boundary Conditions
  for Non-Euclidean Monopoles_\n\nIn this talk\, I will discuss the heurist
 ic behind defining asymptotics\nfor monopoles. Specifically\, the asymptot
 icsshould be abelian\nsolutions embedded into the gauge group. I will firs
 t go over this\nheuristic for Euclideanmonopoles and then move on to non-E
 uclidean\nsituations such as hyperbolic and singly periodic.\n\nMC 5403
DTSTAMP:20260422T062246Z
END:VEVENT
END:VCALENDAR