BEGIN:VCALENDAR
VERSION:2.0
PRODID:-//Drupal iCal API//EN
X-WR-CALNAME:Events items teaser
X-WR-TIMEZONE:America/Toronto
BEGIN:VTIMEZONE
TZID:America/Toronto
X-LIC-LOCATION:America/Toronto
BEGIN:DAYLIGHT
TZNAME:EDT
TZOFFSETFROM:-0500
TZOFFSETTO:-0400
DTSTART:20150308T070000
END:DAYLIGHT
BEGIN:STANDARD
TZNAME:EST
TZOFFSETFROM:-0400
TZOFFSETTO:-0500
DTSTART:20151101T060000
END:STANDARD
END:VTIMEZONE
BEGIN:VEVENT
UID:69ecd17d281ae
DTSTART;TZID=America/Toronto:20151110T150000
SEQUENCE:0
TRANSP:TRANSPARENT
DTEND;TZID=America/Toronto:20151110T150000
URL:https://uwaterloo.ca/recreation-and-leisure-studies/events/simone-fulla
 gar-lecture
LOCATION:FED - Federation Hall 200 University Avenue West Waterloo ON N2L 3
 G1 Canada
SUMMARY:Simone Fullagar Lecture
CLASS:PUBLIC
DESCRIPTION:Professor Simone Fullagar will be visiting Waterloo from the\nU
 niversity of Bath in the U.K. Simone is this years 2015 Shaw-Mannell\nLeis
 ure Research Award winner and will be giving a public lecture and\nwill be
  made available for a reception afterwards.
DTSTAMP:20260425T143645Z
END:VEVENT
END:VCALENDAR