BEGIN:VCALENDAR
VERSION:2.0
PRODID:-//Drupal iCal API//EN
X-WR-CALNAME:Events items teaser
X-WR-TIMEZONE:America/Toronto
BEGIN:VTIMEZONE
TZID:America/Toronto
X-LIC-LOCATION:America/Toronto
BEGIN:DAYLIGHT
TZNAME:EDT
TZOFFSETFROM:-0500
TZOFFSETTO:-0400
DTSTART:20150308T070000
END:DAYLIGHT
BEGIN:STANDARD
TZNAME:EST
TZOFFSETFROM:-0400
TZOFFSETTO:-0500
DTSTART:20151101T060000
END:STANDARD
END:VTIMEZONE
BEGIN:VEVENT
UID:69e8329c3cf53
DTSTART;TZID=America/Toronto:20151121T090000
SEQUENCE:0
TRANSP:TRANSPARENT
DTEND;TZID=America/Toronto:20151121T150000
URL:https://uwaterloo.ca/recreation-and-leisure-studies/events/waterloo-wes
 t-neighbourhood-fest-2015
LOCATION:Stork Family YMCA and John M. Harper Branch\, Waterloo Public Libr
 ary 500 Fischer-Hallman Road North Waterloo ON N2L 0B1 Canada
SUMMARY:Waterloo West Neighbourhood Fest 2015
CLASS:PUBLIC
DESCRIPTION:The students from the Department of Recreation and Leisure\nStu
 dies will present Waterloo West Neighbourhood Fest at the John M.\nHarper
  Branch of the Waterloo Public Library and the Stork Family\nYMCA.
DTSTAMP:20260422T022948Z
END:VEVENT
END:VCALENDAR