BEGIN:VCALENDAR
VERSION:2.0
PRODID:-//Drupal iCal API//EN
X-WR-CALNAME:Events items teaser
X-WR-TIMEZONE:America/Toronto
BEGIN:VTIMEZONE
TZID:America/Toronto
X-LIC-LOCATION:America/Toronto
BEGIN:DAYLIGHT
TZNAME:EDT
TZOFFSETFROM:-0500
TZOFFSETTO:-0400
DTSTART:20170312T070000
END:DAYLIGHT
BEGIN:STANDARD
TZNAME:EST
TZOFFSETFROM:-0400
TZOFFSETTO:-0500
DTSTART:20161106T060000
END:STANDARD
END:VTIMEZONE
BEGIN:VEVENT
UID:69e7712f08476
DTSTART;TZID=America/Toronto:20170404T113000
SEQUENCE:0
TRANSP:TRANSPARENT
DTEND;TZID=America/Toronto:20170404T133000
URL:https://uwaterloo.ca/recreation-and-leisure-studies/events/hallman-lect
 ure-fabian-frenzel
LOCATION:BMH 200 University Ave West Room 1621 Sun Life Auditorium Waterloo
  ON N2L 3G1 Canada
SUMMARY:Hallman Lecture Fabian Frenzel
CLASS:PUBLIC
DESCRIPTION:Dr. Fabian Frenzel\, University of Leicester\, is an internati
 onally\nrenowned expert in the study of tourism and urban poverty\, and th
 e\nspaces where these two intersect. 
DTSTAMP:20260421T124431Z
END:VEVENT
END:VCALENDAR