BEGIN:VCALENDAR
VERSION:2.0
PRODID:-//Drupal iCal API//EN
X-WR-CALNAME:Events items teaser
X-WR-TIMEZONE:America/Toronto
BEGIN:VTIMEZONE
TZID:America/Toronto
X-LIC-LOCATION:America/Toronto
BEGIN:DAYLIGHT
TZNAME:EDT
TZOFFSETFROM:-0500
TZOFFSETTO:-0400
DTSTART:20170312T070000
END:DAYLIGHT
BEGIN:STANDARD
TZNAME:EST
TZOFFSETFROM:-0400
TZOFFSETTO:-0500
DTSTART:20171105T060000
END:STANDARD
END:VTIMEZONE
BEGIN:VEVENT
UID:69eba7b407fd2
DTSTART;TZID=America/Toronto:20180228T100000
SEQUENCE:0
TRANSP:TRANSPARENT
DTEND;TZID=America/Toronto:20180228T150000
URL:https://uwaterloo.ca/recreation-and-leisure-studies/rlsgrandopening2018
LOCATION:BMH - B.C. Matthews Hall 200 University Avenue West 2nd Floor Wate
 rloo ON N2L 3G1 Canada
SUMMARY:Recreation and Leisure Studies Department Return to BMH
CLASS:PUBLIC
DESCRIPTION:The Recreation and Leisure Studies Department returns to their 
 home in\nB.C. Matthews Hall (BMH) and invites you to join the celebration
 !
DTSTAMP:20260424T172612Z
END:VEVENT
END:VCALENDAR