BEGIN:VCALENDAR
VERSION:2.0
PRODID:-//Drupal iCal API//EN
X-WR-CALNAME:Events items teaser
X-WR-TIMEZONE:America/Toronto
BEGIN:VTIMEZONE
TZID:America/Toronto
X-LIC-LOCATION:America/Toronto
BEGIN:DAYLIGHT
TZNAME:EDT
TZOFFSETFROM:-0500
TZOFFSETTO:-0400
DTSTART:20180311T070000
END:DAYLIGHT
BEGIN:STANDARD
TZNAME:EST
TZOFFSETFROM:-0400
TZOFFSETTO:-0500
DTSTART:20171105T060000
END:STANDARD
END:VTIMEZONE
BEGIN:VEVENT
UID:69ea17d9264f7
DTSTART;TZID=America/Toronto:20180717T203000
SEQUENCE:0
TRANSP:TRANSPARENT
DTEND;TZID=America/Toronto:20180717T233000
URL:https://uwaterloo.ca/recreation-and-leisure-studies/events/second-annua
 l-pop-cinema
LOCATION:V1 - Student Village 1 200 University Avenue West V1 Green Waterlo
 o ON N2L 3G1 Canada
SUMMARY:Second Annual Pop-Up Cinema
CLASS:PUBLIC
DESCRIPTION:Come touchdown with REC and enjoy a movie under the stars.
DTSTAMP:20260423T130009Z
END:VEVENT
END:VCALENDAR