BEGIN:VCALENDAR
VERSION:2.0
PRODID:-//Drupal iCal API//EN
X-WR-CALNAME:Events items teaser
X-WR-TIMEZONE:America/Toronto
BEGIN:VTIMEZONE
TZID:America/Toronto
X-LIC-LOCATION:America/Toronto
BEGIN:DAYLIGHT
TZNAME:EDT
TZOFFSETFROM:-0500
TZOFFSETTO:-0400
DTSTART:20180311T070000
END:DAYLIGHT
BEGIN:STANDARD
TZNAME:EST
TZOFFSETFROM:-0400
TZOFFSETTO:-0500
DTSTART:20171105T060000
END:STANDARD
END:VTIMEZONE
BEGIN:VEVENT
UID:69ebbe74346c2
DTSTART;TZID=America/Toronto:20180711T143000
SEQUENCE:0
TRANSP:TRANSPARENT
DTEND;TZID=America/Toronto:20180711T155000
URL:https://uwaterloo.ca/recreation-and-leisure-studies/events/childhood-pl
 ay-spaces-what-if-worlds-uncertainties-misogyny
LOCATION:QNC - Quantum Nano Centre 200 University Avenue West Room 1502 Wat
 erloo ON N2L 3G1 Canada
SUMMARY:Childhood play spaces as What-If Worlds: The uncertainties of\nmiso
 gyny\, racism\, and classism
CLASS:PUBLIC
DESCRIPTION:Join us for this public lecture with Stephanie Jones\, Josiah 
 Meigs\nDistinguished Teaching Professor\, University of Georgia.
DTSTAMP:20260424T190316Z
END:VEVENT
END:VCALENDAR