BEGIN:VCALENDAR
VERSION:2.0
PRODID:-//Drupal iCal API//EN
X-WR-CALNAME:Events items teaser
X-WR-TIMEZONE:America/Toronto
BEGIN:VTIMEZONE
TZID:America/Toronto
X-LIC-LOCATION:America/Toronto
BEGIN:DAYLIGHT
TZNAME:EDT
TZOFFSETFROM:-0500
TZOFFSETTO:-0400
DTSTART:20190310T070000
END:DAYLIGHT
BEGIN:STANDARD
TZNAME:EST
TZOFFSETFROM:-0400
TZOFFSETTO:-0500
DTSTART:20191103T060000
END:STANDARD
END:VTIMEZONE
BEGIN:VEVENT
UID:69e5b5d978b8f
DTSTART;TZID=America/Toronto:20191128T150000
SEQUENCE:0
TRANSP:TRANSPARENT
DTEND;TZID=America/Toronto:20191128T163000
URL:https://uwaterloo.ca/recreation-and-leisure-studies/events/bears-bees-u
 nderstanding-charismatic-appeal-mega-and-micro
LOCATION:AHS - Applied Health Sciences Expansion Building 200 University Av
 e West Room 1686 Waterloo ON N2L 3G1 Canada
SUMMARY:From Bears to Bees: Understanding the Charismatic Appeal of\nMega-a
 nd-Micro Fauna in Leisure and Tourism Studies
CLASS:PUBLIC
DESCRIPTION:Dr. Raynald Harvey Lemelin discusses how the findings from a do
 ctoral\nstudy examining the appeal of charismatic mega-fauna (i.e.\, polar
 \nbears) conducted in the Department of Recreation and Leisure Studies\nat
  the University of Waterloo provided the foundations for examining\nwildli
 fe tourism in general and understanding human-wildlife conflicts\nin vario
 us contexts.
DTSTAMP:20260420T051257Z
END:VEVENT
END:VCALENDAR