BEGIN:VCALENDAR
VERSION:2.0
PRODID:-//Drupal iCal API//EN
X-WR-CALNAME:Events items teaser
X-WR-TIMEZONE:America/Toronto
BEGIN:VTIMEZONE
TZID:America/Toronto
X-LIC-LOCATION:America/Toronto
BEGIN:DAYLIGHT
TZNAME:EDT
TZOFFSETFROM:-0500
TZOFFSETTO:-0400
DTSTART:20250309T070000
END:DAYLIGHT
BEGIN:STANDARD
TZNAME:EST
TZOFFSETFROM:-0400
TZOFFSETTO:-0500
DTSTART:20241103T060000
END:STANDARD
END:VTIMEZONE
BEGIN:VEVENT
UID:69e2c5a5ce6d9
DTSTART;TZID=America/Toronto:20250915T160000
SEQUENCE:0
TRANSP:TRANSPARENT
DTEND;TZID=America/Toronto:20250915T170000
URL:https://uwaterloo.ca/renison-student-experience/events/chinese-student-
 hangout-5
SUMMARY:Chinese Student Hangout
CLASS:PUBLIC
DESCRIPTION:Information regarding Chinese Student Hangout 
DTSTAMP:20260417T234333Z
END:VEVENT
END:VCALENDAR