BEGIN:VCALENDAR
VERSION:2.0
PRODID:-//Drupal iCal API//EN
X-WR-CALNAME:Events items teaser
X-WR-TIMEZONE:America/Toronto
BEGIN:VTIMEZONE
TZID:America/Toronto
X-LIC-LOCATION:America/Toronto
BEGIN:DAYLIGHT
TZNAME:EDT
TZOFFSETFROM:-0500
TZOFFSETTO:-0400
DTSTART:20260308T070000
END:DAYLIGHT
BEGIN:STANDARD
TZNAME:EST
TZOFFSETFROM:-0400
TZOFFSETTO:-0500
DTSTART:20251102T060000
END:STANDARD
END:VTIMEZONE
BEGIN:VEVENT
UID:69e5fd07ca195
DTSTART;TZID=America/Toronto:20260313T180000
SEQUENCE:0
TRANSP:TRANSPARENT
DTEND;TZID=America/Toronto:20260313T223000
URL:https://uwaterloo.ca/renison-student-experience/events/kitchener-ranger
 s-hockey-game-bus-trip-3
LOCATION:REN - Renison University College 240 Westmount Road North Waterloo
  ON N2L 3G4 Canada
SUMMARY:Kitchener Rangers Hockey Game Bus Trip
CLASS:PUBLIC
DESCRIPTION:Cheer on the Kitchener Rangers in the exclusive Renison section
  of the\nKitchener Auditorium!
DTSTAMP:20260420T101639Z
END:VEVENT
END:VCALENDAR