BEGIN:VCALENDAR
VERSION:2.0
PRODID:-//Drupal iCal API//EN
X-WR-CALNAME:Events items teaser
X-WR-TIMEZONE:America/Toronto
BEGIN:VTIMEZONE
TZID:America/Toronto
X-LIC-LOCATION:America/Toronto
BEGIN:DAYLIGHT
TZNAME:EDT
TZOFFSETFROM:-0500
TZOFFSETTO:-0400
DTSTART:20260308T070000
END:DAYLIGHT
BEGIN:STANDARD
TZNAME:EST
TZOFFSETFROM:-0400
TZOFFSETTO:-0500
DTSTART:20251102T060000
END:STANDARD
END:VTIMEZONE
BEGIN:VEVENT
UID:69e7843e18654
DTSTART;TZID=America/Toronto:20260510T210000
SEQUENCE:0
TRANSP:TRANSPARENT
DTEND;TZID=America/Toronto:20260510T220000
URL:https://uwaterloo.ca/renison-student-experience/events/community-welcom
 e-ice-cream-social
LOCATION:REN - Renison University College 240 Westmount Road North Waterloo
  ON N2L 3G4 Canada
SUMMARY:Community Welcome Ice Cream Social
CLASS:PUBLIC
DESCRIPTION:Community Welcome Ice Cream Social is a casual\, friendly event
 \ndesigned to bring people together\, build connections\, and create a\nwe
 lcoming environment for everyone in the community.
DTSTAMP:20260421T140550Z
END:VEVENT
END:VCALENDAR