BEGIN:VCALENDAR
VERSION:2.0
PRODID:-//Drupal iCal API//EN
X-WR-CALNAME:Events items teaser
X-WR-TIMEZONE:America/Toronto
BEGIN:VTIMEZONE
TZID:America/Toronto
X-LIC-LOCATION:America/Toronto
BEGIN:DAYLIGHT
TZNAME:EDT
TZOFFSETFROM:-0500
TZOFFSETTO:-0400
DTSTART:20260308T070000
END:DAYLIGHT
BEGIN:STANDARD
TZNAME:EST
TZOFFSETFROM:-0400
TZOFFSETTO:-0500
DTSTART:20251102T060000
END:STANDARD
END:VTIMEZONE
BEGIN:VEVENT
UID:69e6970868eb6
DTSTART;TZID=America/Toronto:20260514T120000
SEQUENCE:0
TRANSP:TRANSPARENT
DTEND;TZID=America/Toronto:20260514T130000
URL:https://uwaterloo.ca/renison-student-experience/events/moose-hide-campa
 ign-day-campus-walk
LOCATION:REN - Renison University College 240 Westmount Road North Waterloo
  ON N2L 3G4 Canada
SUMMARY:Moose Hide Campaign Day Campus Walk
CLASS:PUBLIC
DESCRIPTION:All members of the Renison and University of Waterloo community
  are\ninvited to join the Moose Hide Campaign Day Walk—an opportunity to
 \nstand together against violence and support reconciliation.
DTSTAMP:20260420T211344Z
END:VEVENT
END:VCALENDAR