BEGIN:VCALENDAR
VERSION:2.0
PRODID:-//Drupal iCal API//EN
X-WR-CALNAME:Events items teaser
X-WR-TIMEZONE:America/Toronto
BEGIN:VTIMEZONE
TZID:America/Toronto
X-LIC-LOCATION:America/Toronto
BEGIN:DAYLIGHT
TZNAME:EDT
TZOFFSETFROM:-0500
TZOFFSETTO:-0400
DTSTART:20260308T070000
END:DAYLIGHT
BEGIN:STANDARD
TZNAME:EST
TZOFFSETFROM:-0400
TZOFFSETTO:-0500
DTSTART:20251102T060000
END:STANDARD
END:VTIMEZONE
BEGIN:VEVENT
UID:69e5e92a58762
DTSTART;TZID=America/Toronto:20260519T160000
SEQUENCE:0
TRANSP:TRANSPARENT
DTEND;TZID=America/Toronto:20260519T173000
URL:https://uwaterloo.ca/renison-student-experience/events/international-da
 y-against-homophobia-biphobia-transphobia
LOCATION:REN - Renison University College 240 Westmount Road North Waterloo
  ON N2L 3G4 Canada
SUMMARY:International Day Against Homophobia\, Biphobia\, &amp; Transphobia
CLASS:PUBLIC
DESCRIPTION:The International Day Against Homophobia\, Biphobia\, &amp; Transph
 obia\noutreach booth is a space to raise awareness\, celebrate 2SLGBTQI+\n
 communities\, and stand together against discrimination.
DTSTAMP:20260420T085154Z
END:VEVENT
END:VCALENDAR