BEGIN:VCALENDAR
VERSION:2.0
PRODID:-//Drupal iCal API//EN
X-WR-CALNAME:Events items teaser
X-WR-TIMEZONE:America/Toronto
BEGIN:VTIMEZONE
TZID:America/Toronto
X-LIC-LOCATION:America/Toronto
BEGIN:DAYLIGHT
TZNAME:EDT
TZOFFSETFROM:-0500
TZOFFSETTO:-0400
DTSTART:20260308T070000
END:DAYLIGHT
BEGIN:STANDARD
TZNAME:EST
TZOFFSETFROM:-0400
TZOFFSETTO:-0500
DTSTART:20251102T060000
END:STANDARD
END:VTIMEZONE
BEGIN:VEVENT
UID:69e44ead12179
DTSTART;TZID=America/Toronto:20260525T150000
SEQUENCE:0
TRANSP:TRANSPARENT
DTEND;TZID=America/Toronto:20260525T160000
URL:https://uwaterloo.ca/renison-student-experience/events/international-pr
 ograms-student-leadership-team-meeting-1
LOCATION:REN - Renison University College 240 Westmount Road North Waterloo
  ON N2L 3G4 Canada
SUMMARY:International Programs Student Leadership Team Meeting
CLASS:PUBLIC
DESCRIPTION:Want to gain some Canadian volunteer experience to enhance your
 \nresume? Join the International Program Student Leadership Team and\nwork
  with your classmates to plan and facilitate a fun event for the\nRenison 
 community!
DTSTAMP:20260419T034029Z
END:VEVENT
END:VCALENDAR