BEGIN:VCALENDAR
VERSION:2.0
PRODID:-//Drupal iCal API//EN
X-WR-CALNAME:Events items teaser
X-WR-TIMEZONE:America/Toronto
BEGIN:VTIMEZONE
TZID:America/Toronto
X-LIC-LOCATION:America/Toronto
BEGIN:DAYLIGHT
TZNAME:EDT
TZOFFSETFROM:-0500
TZOFFSETTO:-0400
DTSTART:20260308T070000
END:DAYLIGHT
BEGIN:STANDARD
TZNAME:EST
TZOFFSETFROM:-0400
TZOFFSETTO:-0500
DTSTART:20251102T060000
END:STANDARD
END:VTIMEZONE
BEGIN:VEVENT
UID:69e44eac546e2
DTSTART;TZID=America/Toronto:20260530T113000
SEQUENCE:0
TRANSP:TRANSPARENT
DTEND;TZID=America/Toronto:20260530T153000
URL:https://uwaterloo.ca/renison-student-experience/events/st-jacobs-farmer
 s-market-visit-0
LOCATION:REN - Renison University College 240 Westmount Road North Waterloo
  ON N2L 3G4 Canada
SUMMARY:St. Jacobs Farmers' Market Visit
CLASS:PUBLIC
DESCRIPTION:Visit the St. Jacobs Farmer's Market with your peer leaders.
DTSTAMP:20260419T034028Z
END:VEVENT
END:VCALENDAR