BEGIN:VCALENDAR
VERSION:2.0
PRODID:-//Drupal iCal API//EN
X-WR-CALNAME:Events items teaser
X-WR-TIMEZONE:America/Toronto
BEGIN:VTIMEZONE
TZID:America/Toronto
X-LIC-LOCATION:America/Toronto
BEGIN:DAYLIGHT
TZNAME:EDT
TZOFFSETFROM:-0500
TZOFFSETTO:-0400
DTSTART:20240310T070000
END:DAYLIGHT
BEGIN:STANDARD
TZNAME:EST
TZOFFSETFROM:-0400
TZOFFSETTO:-0500
DTSTART:20231105T060000
END:STANDARD
END:VTIMEZONE
BEGIN:VEVENT
UID:69e5ef17e2488
DTSTART;TZID=America/Toronto:20240622T110000
SEQUENCE:0
TRANSP:TRANSPARENT
DTEND;TZID=America/Toronto:20240622T170000
URL:https://uwaterloo.ca/renison-student-experience/events/visit-kw-multicu
 ltural-festival
LOCATION:REN - Renison University College 240 Westmount Road North Atrium W
 aterloo ON N2L 3G4 Canada
SUMMARY:Visit to the KW Multicultural Festival
CLASS:PUBLIC
DESCRIPTION:Join your peer leaders on a trip to enjoy the KW Multicultural\
 nFestival! This festival is a full day of cultural sharing\, delicious\nfo
 od\, and wonderful performances!\n\nWHAT CAN YOU EXPECT?\n\n* Take the ION
  from campus to Victoria Park\n * Check out booths\, try different foods\,
  and watch live performances\nof different music\, dance\, and more on the
  main stage\n * Learn about new cultures and traditions!\n\nWHEN AND WHERE
 ?\n\nSaturday\, June 22\n\n11:00am – 5:00pm\n\nMeet in the Renison Atriu
 m\n\nBRING YOUR WATCARD TO TAKE THE BUS TO DOWNTOWN KITCHENER\n\nCLICK THI
 S LINK TO LEARN MORE ABOUT THE FESTIVAL.\n[https://www.kwmf.ca/]
DTSTAMP:20260420T091711Z
END:VEVENT
END:VCALENDAR