BEGIN:VCALENDAR
VERSION:2.0
PRODID:-//Drupal iCal API//EN
X-WR-CALNAME:Events items teaser
X-WR-TIMEZONE:America/Toronto
BEGIN:VTIMEZONE
TZID:America/Toronto
X-LIC-LOCATION:America/Toronto
BEGIN:DAYLIGHT
TZNAME:EDT
TZOFFSETFROM:-0500
TZOFFSETTO:-0400
DTSTART:20240310T070000
END:DAYLIGHT
BEGIN:STANDARD
TZNAME:EST
TZOFFSETFROM:-0400
TZOFFSETTO:-0500
DTSTART:20231105T060000
END:STANDARD
END:VTIMEZONE
BEGIN:VEVENT
UID:69e79ca5201ad
DTSTART;TZID=America/Toronto:20240815T110000
SEQUENCE:0
TRANSP:TRANSPARENT
DTEND;TZID=America/Toronto:20240815T130000
URL:https://uwaterloo.ca/renison-student-experience/events/culture-fair-hos
 ted-ibase-leadership-team
LOCATION:REN - Renison University College 240 Westmount Road North Atrium W
 aterloo ON N2L 3G4 Canada
SUMMARY:Culture Fair Hosted by the iBASE Leadership Team
CLASS:PUBLIC
DESCRIPTION:The iBASE Leadership Team has been hard at work preparing a Cul
 ture\nFair just for you! Learn all about aspects of culture from around th
 e\nworld!\n\nWHAT CAN YOU EXPECT?\n\n* Informative and interactive booths\
 n * A playlist curated by the iBASE Leadership Team with music from\nall a
 round the world\n * Snacks and activities to help you learn about various 
 cultures\n\nWHEN AND WHERE?\n\nThursday\, August 15\n\n11:00am – 1:00pm\
 n\nRenison Atrium
DTSTAMP:20260421T154957Z
END:VEVENT
END:VCALENDAR