BEGIN:VCALENDAR
VERSION:2.0
PRODID:-//Drupal iCal API//EN
X-WR-CALNAME:Events items teaser
X-WR-TIMEZONE:America/Toronto
BEGIN:VTIMEZONE
TZID:America/Toronto
X-LIC-LOCATION:America/Toronto
BEGIN:DAYLIGHT
TZNAME:EDT
TZOFFSETFROM:-0500
TZOFFSETTO:-0400
DTSTART:20240310T070000
END:DAYLIGHT
BEGIN:STANDARD
TZNAME:EST
TZOFFSETFROM:-0400
TZOFFSETTO:-0500
DTSTART:20231105T060000
END:STANDARD
END:VTIMEZONE
BEGIN:VEVENT
UID:69e56f3fe72b3
DTSTART;TZID=America/Toronto:20240830T160000
SEQUENCE:0
TRANSP:TRANSPARENT
DTEND;TZID=America/Toronto:20240830T180000
URL:https://uwaterloo.ca/renison-student-experience/events/explore-waterloo
 -park-0
LOCATION:REN - Renison University College 240 Westmount Road North Atrium W
 aterloo ON N2L 3G4 Canada
SUMMARY:Explore Waterloo Park
CLASS:PUBLIC
DESCRIPTION:Welcome to Waterloo! One of the best sites in the city is Water
 loo\nPark! Spend the afternoon taking a stroll through the park\, seeing t
 he\nanimals at the hobby zoo\, and playing games with your peer leaders!\n
 \nWHAT CAN YOU EXPECT?\n\n* Walk from Renison to Waterloo Park\n * Play ou
 tdoor games\n * Take photos and enjoy the nice weather!\n\nWHEN AND WHERE?
 \n\nFriday\, August 30\n\n4:00pm – 6:00pm\n\nMeet in the Renison Atrium
DTSTAMP:20260420T001143Z
END:VEVENT
END:VCALENDAR